BEGIN:VCALENDAR
VERSION:2.0
PRODID:-//Northern California PGA - ECPv6.15.20//NONSGML v1.0//EN
CALSCALE:GREGORIAN
METHOD:PUBLISH
X-ORIGINAL-URL:https://ncpgalinks.com
X-WR-CALDESC:Events for Northern California PGA
REFRESH-INTERVAL;VALUE=DURATION:PT1H
X-Robots-Tag:noindex
X-PUBLISHED-TTL:PT1H
BEGIN:VTIMEZONE
TZID:UTC
BEGIN:STANDARD
TZOFFSETFROM:+0000
TZOFFSETTO:+0000
TZNAME:UTC
DTSTART:20180101T000000
END:STANDARD
END:VTIMEZONE
BEGIN:VEVENT
DTSTART;TZID=UTC:20191202T080000
DTEND;TZID=UTC:20191202T170000
DTSTAMP:20260422T192751
CREATED:20191008T180952Z
LAST-MODIFIED:20191008T180952Z
UID:10000493-1575273600-1575306000@ncpgalinks.com
SUMMARY:WOMEN'S DIVISION STROKE PLAY-MAYACAMA
DESCRIPTION:
URL:https://ncpgalinks.com/event/womens-division-stroke-play-mayacama/
CATEGORIES:Homepage Events
END:VEVENT
END:VCALENDAR