BEGIN:VCALENDAR
VERSION:2.0
PRODID:-//Northern California PGA - ECPv6.15.20//NONSGML v1.0//EN
CALSCALE:GREGORIAN
METHOD:PUBLISH
X-WR-CALNAME:Northern California PGA
X-ORIGINAL-URL:https://ncpgalinks.com
X-WR-CALDESC:Events for Northern California PGA
REFRESH-INTERVAL;VALUE=DURATION:PT1H
X-Robots-Tag:noindex
X-PUBLISHED-TTL:PT1H
BEGIN:VTIMEZONE
TZID:UTC
BEGIN:STANDARD
TZOFFSETFROM:+0000
TZOFFSETTO:+0000
TZNAME:UTC
DTSTART:20180101T000000
END:STANDARD
END:VTIMEZONE
BEGIN:VEVENT
DTSTART;TZID=UTC:20191209T080000
DTEND;TZID=UTC:20191209T170000
DTSTAMP:20260419T232612
CREATED:20191008T181739Z
LAST-MODIFIED:20191008T181739Z
UID:10000497-1575878400-1575910800@ncpgalinks.com
SUMMARY:NCPGA ANNUAL MEETING
DESCRIPTION:Contact Suzy Schneider sschneider@pgahq.com
URL:https://ncpgalinks.com/event/ncpga-annual-meeting/
LOCATION:Green Valley Country Club\, Fairfield\, California
CATEGORIES:Homepage Events
GEO:38.2491956;-122.0405151
END:VEVENT
END:VCALENDAR