BEGIN:VCALENDAR
VERSION:2.0
PRODID:-//Northern California PGA - ECPv6.15.20//NONSGML v1.0//EN
CALSCALE:GREGORIAN
METHOD:PUBLISH
X-WR-CALNAME:Northern California PGA
X-ORIGINAL-URL:https://ncpgalinks.com
X-WR-CALDESC:Events for Northern California PGA
REFRESH-INTERVAL;VALUE=DURATION:PT1H
X-Robots-Tag:noindex
X-PUBLISHED-TTL:PT1H
BEGIN:VTIMEZONE
TZID:UTC
BEGIN:STANDARD
TZOFFSETFROM:+0000
TZOFFSETTO:+0000
TZNAME:UTC
DTSTART:20200101T000000
END:STANDARD
END:VTIMEZONE
BEGIN:VEVENT
DTSTART;VALUE=DATE:20210517
DTEND;VALUE=DATE:20210518
DTSTAMP:20260419T192037
CREATED:20210106T223836Z
LAST-MODIFIED:20210203T221129Z
UID:10000716-1621209600-1621295999@ncpgalinks.com
SUMMARY:Super Senior Match Play Qualifier
DESCRIPTION:
URL:https://ncpgalinks.com/event/super-senior-match-play-qualifier/
LOCATION:Pasatiempo GC
CATEGORIES:Senior Division
END:VEVENT
BEGIN:VEVENT
DTSTART;VALUE=DATE:20210517
DTEND;VALUE=DATE:20210518
DTSTAMP:20260419T192037
CREATED:20210323T232402Z
LAST-MODIFIED:20210323T232402Z
UID:10000770-1621209600-1621295999@ncpgalinks.com
SUMMARY:SJVC Match Play
DESCRIPTION:
URL:https://ncpgalinks.com/event/sjvc-match-play-2/
LOCATION:Swenson Park GC\, 6803 Alexandria Place\, Stockton\, CA\, 95207
CATEGORIES:Homepage Events,San Joaquin Valley Chapter
GEO:38.0100071;-121.3413285
X-APPLE-STRUCTURED-LOCATION;VALUE=URI;X-ADDRESS=Swenson Park GC 6803 Alexandria Place Stockton CA 95207;X-APPLE-RADIUS=500;X-TITLE=6803 Alexandria Place:geo:-121.3413285,38.0100071
END:VEVENT
BEGIN:VEVENT
DTSTART;VALUE=DATE:20210517
DTEND;VALUE=DATE:20210519
DTSTAMP:20260419T192037
CREATED:20210106T173209Z
LAST-MODIFIED:20210106T225612Z
UID:10000584-1621209600-1621382399@ncpgalinks.com
SUMMARY:AA Match Play Championship
DESCRIPTION:
URL:https://ncpgalinks.com/event/aa-match-play-championship/
LOCATION:Mayacama Golf Club
CATEGORIES:Assistant Associates Division,Homepage Events
END:VEVENT
BEGIN:VEVENT
DTSTART;VALUE=DATE:20210517
DTEND;VALUE=DATE:20210524
DTSTAMP:20260419T192037
CREATED:20201203T203020Z
LAST-MODIFIED:20201203T203020Z
UID:10000560-1621209600-1621814399@ncpgalinks.com
SUMMARY:PGA Championship
DESCRIPTION:
URL:https://ncpgalinks.com/event/pga-championship-2/
LOCATION:Kiawah Island\, S.C.
CATEGORIES:Homepage Events,PGA
END:VEVENT
END:VCALENDAR