BEGIN:VCALENDAR
VERSION:2.0
PRODID:-//Northern California PGA - ECPv6.15.20//NONSGML v1.0//EN
CALSCALE:GREGORIAN
METHOD:PUBLISH
X-WR-CALNAME:Northern California PGA
X-ORIGINAL-URL:https://ncpgalinks.com
X-WR-CALDESC:Events for Northern California PGA
REFRESH-INTERVAL;VALUE=DURATION:PT1H
X-Robots-Tag:noindex
X-PUBLISHED-TTL:PT1H
BEGIN:VTIMEZONE
TZID:UTC
BEGIN:STANDARD
TZOFFSETFROM:+0000
TZOFFSETTO:+0000
TZNAME:UTC
DTSTART:20210101T000000
END:STANDARD
END:VTIMEZONE
BEGIN:VEVENT
DTSTART;VALUE=DATE:20220417
DTEND;VALUE=DATE:20220421
DTSTAMP:20260420T121456
CREATED:20220110T203639Z
LAST-MODIFIED:20220110T203639Z
UID:10000792-1650153600-1650499199@ncpgalinks.com
SUMMARY:PGA Professional Championship
DESCRIPTION:
URL:https://ncpgalinks.com/event/pga-professional-championship-3/
LOCATION:Omni Barton Creek Resort
CATEGORIES:PGA
END:VEVENT
BEGIN:VEVENT
DTSTART;VALUE=DATE:20220418
DTEND;VALUE=DATE:20220419
DTSTAMP:20260420T121456
CREATED:20220208T224252Z
LAST-MODIFIED:20220208T224252Z
UID:10000831-1650240000-1650326399@ncpgalinks.com
SUMMARY:Hidden Valley CC Spring Pro-Am
DESCRIPTION:Hidden Valley Country Club Spring Invitational Pro-Am –
URL:https://ncpgalinks.com/event/hidden-valley-cc-spring-pro-am/
LOCATION:Hidden Valley CC\, Reno\, Nevada
CATEGORIES:Pro-Ams
GEO:39.5296329;-119.8138027
END:VEVENT
END:VCALENDAR