BEGIN:VCALENDAR
VERSION:2.0
PRODID:-//Northern California PGA - ECPv6.15.20//NONSGML v1.0//EN
CALSCALE:GREGORIAN
METHOD:PUBLISH
X-ORIGINAL-URL:https://ncpgalinks.com
X-WR-CALDESC:Events for Northern California PGA
REFRESH-INTERVAL;VALUE=DURATION:PT1H
X-Robots-Tag:noindex
X-PUBLISHED-TTL:PT1H
BEGIN:VTIMEZONE
TZID:UTC
BEGIN:STANDARD
TZOFFSETFROM:+0000
TZOFFSETTO:+0000
TZNAME:UTC
DTSTART:20200101T000000
END:STANDARD
END:VTIMEZONE
BEGIN:VEVENT
DTSTART;VALUE=DATE:20210301
DTEND;VALUE=DATE:20210302
DTSTAMP:20260420T120322
CREATED:20210201T211910Z
LAST-MODIFIED:20210201T211910Z
UID:10000618-1614556800-1614643199@ncpgalinks.com
SUMMARY:MBAC Match Play Starts
DESCRIPTION:
URL:https://ncpgalinks.com/event/mbac-match-play-starts/
CATEGORIES:Homepage Events,Monterey Bay Area Chapter
END:VEVENT
BEGIN:VEVENT
DTSTART;VALUE=DATE:20210301
DTEND;VALUE=DATE:20210302
DTSTAMP:20260420T120322
CREATED:20210204T184403Z
LAST-MODIFIED:20210204T225600Z
UID:10000750-1614556800-1614643199@ncpgalinks.com
SUMMARY:NCPGA Virtual Player-Teacher Development Forum
DESCRIPTION:
URL:https://ncpgalinks.com/event/ncpga-virtual-player-teacher-development-forum/
LOCATION:Zoom Meeting
CATEGORIES:Homepage Events,Section
END:VEVENT
BEGIN:VEVENT
DTSTART;VALUE=DATE:20210308
DTEND;VALUE=DATE:20210310
DTSTAMP:20260420T120322
CREATED:20201203T201846Z
LAST-MODIFIED:20210203T215326Z
UID:10000548-1615161600-1615334399@ncpgalinks.com
SUMMARY:NCPGA Club Team Championship
DESCRIPTION:Want to stay at Silverado Resort? Use this booking link for the NCPGA group NCPGA Club Team Championship
URL:https://ncpgalinks.com/event/ncpga-club-team-championship/
LOCATION:Silverado Resort – South Course
CATEGORIES:Homepage Events,Section
END:VEVENT
BEGIN:VEVENT
DTSTART;VALUE=DATE:20210315
DTEND;VALUE=DATE:20210316
DTSTAMP:20260420T120322
CREATED:20210106T223711Z
LAST-MODIFIED:20210128T224329Z
UID:10000715-1615766400-1615852799@ncpgalinks.com
SUMMARY:Senior Pro-Pro 4 & MPQ
DESCRIPTION:NOT A SUPER SENIOR EVENT.  SUPER SENIOR MPQ IS MARCH 14TH.
URL:https://ncpgalinks.com/event/senior-pro-pro-4-mpq/
LOCATION:The Ridge GC
CATEGORIES:Homepage Events,Senior Division
END:VEVENT
BEGIN:VEVENT
DTSTART;VALUE=DATE:20210315
DTEND;VALUE=DATE:20210316
DTSTAMP:20260420T120322
CREATED:20210128T230229Z
LAST-MODIFIED:20210128T230229Z
UID:10000728-1615766400-1615852799@ncpgalinks.com
SUMMARY:NSC Chapman Scotch Pro-Pro
DESCRIPTION:12:00 Shotgun. $80 per player. Sponsored by: Mark Attebery\, Cleveland/Srixon Golf
URL:https://ncpgalinks.com/event/nsc-chapman-scotch-pro-pro/
LOCATION:Serrano CC
CATEGORIES:Homepage Events,North State Chapter
END:VEVENT
BEGIN:VEVENT
DTSTART;VALUE=DATE:20210322
DTEND;VALUE=DATE:20210323
DTSTAMP:20260420T120322
CREATED:20210106T225955Z
LAST-MODIFIED:20210106T230045Z
UID:10000717-1616371200-1616457599@ncpgalinks.com
SUMMARY:AA Medal Play #3
DESCRIPTION:
URL:https://ncpgalinks.com/event/aa-medal-play-3-2/
LOCATION:TBD
CATEGORIES:Assistant Associates Division,Homepage Events
END:VEVENT
BEGIN:VEVENT
DTSTART;VALUE=DATE:20210322
DTEND;VALUE=DATE:20210323
DTSTAMP:20260420T120322
CREATED:20210201T211959Z
LAST-MODIFIED:20210201T211959Z
UID:10000621-1616371200-1616457599@ncpgalinks.com
SUMMARY:MBAC Pro-Scratch
DESCRIPTION:
URL:https://ncpgalinks.com/event/mbac-pro-scratch-2/
LOCATION:TBD
CATEGORIES:Homepage Events,Monterey Bay Area Chapter
END:VEVENT
BEGIN:VEVENT
DTSTART;VALUE=DATE:20210322
DTEND;VALUE=DATE:20210323
DTSTAMP:20260420T120322
CREATED:20210310T225052Z
LAST-MODIFIED:20210310T225052Z
UID:10000760-1616371200-1616457599@ncpgalinks.com
SUMMARY:PGA HOPE Instructor Training Seminar - FREE!
DESCRIPTION:For PGA HOPE Instructor seminar details  CLICK HERE \nTo sign up contact Suzy Schneider in the NCPGA Office at sschneider@pgahq.com
URL:https://ncpgalinks.com/event/pga-hope-instructor-training-seminar-free/
LOCATION:The Ridge GC
CATEGORIES:Education / Industry,Homepage Events,NCPGA Foundation
END:VEVENT
BEGIN:VEVENT
DTSTART;VALUE=DATE:20210324
DTEND;VALUE=DATE:20210326
DTSTAMP:20260420T120322
CREATED:20210106T223329Z
LAST-MODIFIED:20210203T172755Z
UID:10000714-1616544000-1616716799@ncpgalinks.com
SUMMARY:Senior Match Play
DESCRIPTION:
URL:https://ncpgalinks.com/event/senior-super-sr-match-play/
LOCATION:Pasatiempo GC
CATEGORIES:Homepage Events,Senior Division
END:VEVENT
BEGIN:VEVENT
DTSTART;VALUE=DATE:20210329
DTEND;VALUE=DATE:20210330
DTSTAMP:20260420T120322
CREATED:20201203T202100Z
LAST-MODIFIED:20201203T202100Z
UID:10000550-1616976000-1617062399@ncpgalinks.com
SUMMARY:2021 Pro Series #4 & MP Qualifier
DESCRIPTION:
URL:https://ncpgalinks.com/event/2021-pro-series-4-mp-qualifier/
LOCATION:Corica Park South
CATEGORIES:Homepage Events,Section
END:VEVENT
END:VCALENDAR