BEGIN:VCALENDAR
VERSION:2.0
PRODID:-//Northern California PGA - ECPv6.15.20//NONSGML v1.0//EN
CALSCALE:GREGORIAN
METHOD:PUBLISH
X-ORIGINAL-URL:https://ncpgalinks.com
X-WR-CALDESC:Events for Northern California PGA
REFRESH-INTERVAL;VALUE=DURATION:PT1H
X-Robots-Tag:noindex
X-PUBLISHED-TTL:PT1H
BEGIN:VTIMEZONE
TZID:UTC
BEGIN:STANDARD
TZOFFSETFROM:+0000
TZOFFSETTO:+0000
TZNAME:UTC
DTSTART:20210101T000000
END:STANDARD
END:VTIMEZONE
BEGIN:VEVENT
DTSTART;VALUE=DATE:20220118
DTEND;VALUE=DATE:20220119
DTSTAMP:20260421T130733
CREATED:20220111T191504Z
LAST-MODIFIED:20220111T191754Z
UID:10000813-1642464000-1642550399@ncpgalinks.com
SUMMARY:Senior/Super Senior Pro-Pro 1
DESCRIPTION:
URL:https://ncpgalinks.com/event/senior-super-senior-pro-pro-1/
LOCATION:Del Paso CC\, 3333 Marconi Avenue\, Sacramento\, California\, 95821
CATEGORIES:Senior Division
GEO:38.619218;-121.3871273
X-APPLE-STRUCTURED-LOCATION;VALUE=URI;X-ADDRESS=Del Paso CC 3333 Marconi Avenue Sacramento California 95821;X-APPLE-RADIUS=500;X-TITLE=3333 Marconi Avenue:geo:-121.3871273,38.619218
END:VEVENT
BEGIN:VEVENT
DTSTART;VALUE=DATE:20220131
DTEND;VALUE=DATE:20220201
DTSTAMP:20260421T130733
CREATED:20220111T191658Z
LAST-MODIFIED:20220111T191658Z
UID:10000815-1643587200-1643673599@ncpgalinks.com
SUMMARY:Senior/Super Senior Pro-Pro 2
DESCRIPTION:
URL:https://ncpgalinks.com/event/senior-super-senior-pro-pro-2/
LOCATION:Corral de Tierra CC
CATEGORIES:Senior Division
END:VEVENT
END:VCALENDAR