BEGIN:VCALENDAR
VERSION:2.0
PRODID:-//Northern California PGA - ECPv6.15.20//NONSGML v1.0//EN
CALSCALE:GREGORIAN
METHOD:PUBLISH
X-WR-CALNAME:Northern California PGA
X-ORIGINAL-URL:https://ncpgalinks.com
X-WR-CALDESC:Events for Northern California PGA
REFRESH-INTERVAL;VALUE=DURATION:PT1H
X-Robots-Tag:noindex
X-PUBLISHED-TTL:PT1H
BEGIN:VTIMEZONE
TZID:UTC
BEGIN:STANDARD
TZOFFSETFROM:+0000
TZOFFSETTO:+0000
TZNAME:UTC
DTSTART:20200101T000000
END:STANDARD
END:VTIMEZONE
BEGIN:VEVENT
DTSTART;VALUE=DATE:20210920
DTEND;VALUE=DATE:20210921
DTSTAMP:20260419T223615
CREATED:20210201T215943Z
LAST-MODIFIED:20210201T215943Z
UID:10000736-1632096000-1632182399@ncpgalinks.com
SUMMARY:MBAC Pro-Pro
DESCRIPTION:
URL:https://ncpgalinks.com/event/mbac-pro-pro-2/
LOCATION:TBD
CATEGORIES:Homepage Events,Monterey Bay Area Chapter
END:VEVENT
END:VCALENDAR