BEGIN:VCALENDAR
VERSION:2.0
PRODID:-//Northern California PGA - ECPv6.15.20//NONSGML v1.0//EN
CALSCALE:GREGORIAN
METHOD:PUBLISH
X-ORIGINAL-URL:https://ncpgalinks.com
X-WR-CALDESC:Events for Northern California PGA
REFRESH-INTERVAL;VALUE=DURATION:PT1H
X-Robots-Tag:noindex
X-PUBLISHED-TTL:PT1H
BEGIN:VTIMEZONE
TZID:UTC
BEGIN:STANDARD
TZOFFSETFROM:+0000
TZOFFSETTO:+0000
TZNAME:UTC
DTSTART:20190101T000000
END:STANDARD
END:VTIMEZONE
BEGIN:VEVENT
DTSTART;VALUE=DATE:20240123
DTEND;VALUE=DATE:20240127
DTSTAMP:20260419T145608
CREATED:20231221T182214Z
LAST-MODIFIED:20231221T182214Z
UID:10000921-1705968000-1706313599@ncpgalinks.com
SUMMARY:2024 PGA Show
DESCRIPTION:
URL:https://ncpgalinks.com/event/2024-pga-show/
LOCATION:Orange County Convention Center\, Orlando\, FL
CATEGORIES:Education / Industry,PGA
GEO:28.5383832;-81.3789269
END:VEVENT
BEGIN:VEVENT
DTSTART;VALUE=DATE:20230821
DTEND;VALUE=DATE:20230823
DTSTAMP:20260419T145608
CREATED:20230523T160358Z
LAST-MODIFIED:20230523T160358Z
UID:10000877-1692576000-1692748799@ncpgalinks.com
SUMMARY:2023 Nor Cal Senior PGA Professional Championship
DESCRIPTION:
URL:https://ncpgalinks.com/event/2023-nor-cal-senior-pga-professional-championship/
LOCATION:Del Rio CC
CATEGORIES:PGA,Section,Senior Division
END:VEVENT
BEGIN:VEVENT
DTSTART;VALUE=DATE:20220929
DTEND;VALUE=DATE:20221003
DTSTAMP:20260419T145608
CREATED:20220111T180601Z
LAST-MODIFIED:20220111T180601Z
UID:10000805-1664409600-1664755199@ncpgalinks.com
SUMMARY:PGA Senior Professional Championship
DESCRIPTION:
URL:https://ncpgalinks.com/event/pga-senior-professional-championship/
LOCATION:Twin Warriors GC\, New Mexico
CATEGORIES:PGA,Senior Division
END:VEVENT
BEGIN:VEVENT
DTSTART;VALUE=DATE:20220923
DTEND;VALUE=DATE:20220926
DTSTAMP:20260419T145608
CREATED:20220111T180708Z
LAST-MODIFIED:20220111T180708Z
UID:10000806-1663891200-1664150399@ncpgalinks.com
SUMMARY:Pure Insurance Championship
DESCRIPTION:
URL:https://ncpgalinks.com/event/pure-insurance-championship-3/
LOCATION:Pebble Beach Golf Links
CATEGORIES:PGA,Senior Division
END:VEVENT
BEGIN:VEVENT
DTSTART;VALUE=DATE:20220526
DTEND;VALUE=DATE:20220530
DTSTAMP:20260419T145608
CREATED:20220110T204207Z
LAST-MODIFIED:20220110T204207Z
UID:10000799-1653523200-1653868799@ncpgalinks.com
SUMMARY:Senior PGA Championship
DESCRIPTION:
URL:https://ncpgalinks.com/event/senior-pga-championship-3/
LOCATION:Harbor Shores GC
CATEGORIES:PGA,Senior Division
END:VEVENT
BEGIN:VEVENT
DTSTART;VALUE=DATE:20220519
DTEND;VALUE=DATE:20220523
DTSTAMP:20260419T145608
CREATED:20220110T204021Z
LAST-MODIFIED:20220110T204021Z
UID:10000798-1652918400-1653263999@ncpgalinks.com
SUMMARY:PGA Championship
DESCRIPTION:
URL:https://ncpgalinks.com/event/pga-championship-3/
LOCATION:Southern Hills CC\, Tulsa\, OK
CATEGORIES:PGA
GEO:36.1539816;-95.992775
END:VEVENT
BEGIN:VEVENT
DTSTART;VALUE=DATE:20220417
DTEND;VALUE=DATE:20220421
DTSTAMP:20260419T145608
CREATED:20220110T203639Z
LAST-MODIFIED:20220110T203639Z
UID:10000792-1650153600-1650499199@ncpgalinks.com
SUMMARY:PGA Professional Championship
DESCRIPTION:
URL:https://ncpgalinks.com/event/pga-professional-championship-3/
LOCATION:Omni Barton Creek Resort
CATEGORIES:PGA
END:VEVENT
BEGIN:VEVENT
DTSTART;VALUE=DATE:20211111
DTEND;VALUE=DATE:20211115
DTSTAMP:20260419T145608
CREATED:20201203T213330Z
LAST-MODIFIED:20201203T213330Z
UID:10000679-1636588800-1636934399@ncpgalinks.com
SUMMARY:National Assistant PGA Professional Championship
DESCRIPTION:
URL:https://ncpgalinks.com/event/national-assistant-pga-professional-championship/
LOCATION:PGA GC\, Port St. Lucie\, FL
CATEGORIES:Assistant Associates Division,PGA
END:VEVENT
BEGIN:VEVENT
DTSTART;VALUE=DATE:20211021
DTEND;VALUE=DATE:20211025
DTSTAMP:20260419T145608
CREATED:20201203T212919Z
LAST-MODIFIED:20201203T212919Z
UID:10000672-1634774400-1635119999@ncpgalinks.com
SUMMARY:Senior PGA Professional Championship
DESCRIPTION:
URL:https://ncpgalinks.com/event/senior-pga-professional-championship/
LOCATION:PGA GC\, Port St. Lucie\, FL
CATEGORIES:Homepage Events,PGA
END:VEVENT
BEGIN:VEVENT
DTSTART;VALUE=DATE:20210926
DTEND;VALUE=DATE:20211002
DTSTAMP:20260419T145608
CREATED:20201203T212624Z
LAST-MODIFIED:20201203T212624Z
UID:10000668-1632614400-1633132799@ncpgalinks.com
SUMMARY:Korn Ferry Q-School First Stage
DESCRIPTION:
URL:https://ncpgalinks.com/event/korn-ferry-q-school-first-stage/
LOCATION:Dayton Valley GC
CATEGORIES:PGA,Section
END:VEVENT
BEGIN:VEVENT
DTSTART;VALUE=DATE:20210924
DTEND;VALUE=DATE:20210927
DTSTAMP:20260419T145608
CREATED:20201203T212338Z
LAST-MODIFIED:20201203T212338Z
UID:10000665-1632441600-1632700799@ncpgalinks.com
SUMMARY:Pure Insurance Championship
DESCRIPTION:
URL:https://ncpgalinks.com/event/pure-insurance-championship-2/
LOCATION:Pebble Beach Golf Links
CATEGORIES:Homepage Events,PGA
END:VEVENT
BEGIN:VEVENT
DTSTART;VALUE=DATE:20210525
DTEND;VALUE=DATE:20210531
DTSTAMP:20260419T145608
CREATED:20210106T222611Z
LAST-MODIFIED:20210106T222611Z
UID:10000711-1621900800-1622419199@ncpgalinks.com
SUMMARY:Senior PGA Championship
DESCRIPTION:
URL:https://ncpgalinks.com/event/senior-pga-championship-2/
LOCATION:Southern Hills CC\, Tulsa\, OK
CATEGORIES:PGA,Senior Division
GEO:36.1539816;-95.992775
END:VEVENT
BEGIN:VEVENT
DTSTART;VALUE=DATE:20210517
DTEND;VALUE=DATE:20210524
DTSTAMP:20260419T145608
CREATED:20201203T203020Z
LAST-MODIFIED:20201203T203020Z
UID:10000560-1621209600-1621814399@ncpgalinks.com
SUMMARY:PGA Championship
DESCRIPTION:
URL:https://ncpgalinks.com/event/pga-championship-2/
LOCATION:Kiawah Island\, S.C.
CATEGORIES:Homepage Events,PGA
END:VEVENT
BEGIN:VEVENT
DTSTART;VALUE=DATE:20210425
DTEND;VALUE=DATE:20210429
DTSTAMP:20260419T145608
CREATED:20201203T202655Z
LAST-MODIFIED:20201203T202655Z
UID:10000556-1619308800-1619654399@ncpgalinks.com
SUMMARY:PGA Professional Championship
DESCRIPTION:
URL:https://ncpgalinks.com/event/pga-professional-championship-2/
LOCATION:PGA GC\, Port St. Lucie\, FL
CATEGORIES:Homepage Events,PGA
END:VEVENT
BEGIN:VEVENT
DTSTART;VALUE=DATE:20201112
DTEND;VALUE=DATE:20201116
DTSTAMP:20260419T145608
CREATED:20200506T050405Z
LAST-MODIFIED:20200506T050405Z
UID:10000614-1605139200-1605484799@ncpgalinks.com
SUMMARY:The Masters
DESCRIPTION:
URL:https://ncpgalinks.com/event/the-masters/
LOCATION:FL
CATEGORIES:PGA
END:VEVENT
BEGIN:VEVENT
DTSTART;VALUE=DATE:20201015
DTEND;VALUE=DATE:20201019
DTSTAMP:20260419T145608
CREATED:20200130T162309Z
LAST-MODIFIED:20200130T162309Z
UID:10000591-1602720000-1603065599@ncpgalinks.com
SUMMARY:Senior PGA Professional National Championship
DESCRIPTION:
URL:https://ncpgalinks.com/event/senior-pga-professional-national-championship/
LOCATION:PGA GC\, Port St. Lucie\, FL
CATEGORIES:PGA,Senior Division
END:VEVENT
BEGIN:VEVENT
DTSTART;VALUE=DATE:20200918
DTEND;VALUE=DATE:20200921
DTSTAMP:20260419T145608
CREATED:20200506T051434Z
LAST-MODIFIED:20200506T051434Z
UID:10000620-1600387200-1600646399@ncpgalinks.com
SUMMARY:Pure Insurance Championship
DESCRIPTION:
URL:https://ncpgalinks.com/event/pure-insurance-championship/
LOCATION:Pebble Beach Golf Links
CATEGORIES:PGA
END:VEVENT
BEGIN:VEVENT
DTSTART;VALUE=DATE:20200917
DTEND;VALUE=DATE:20200921
DTSTAMP:20260419T145608
CREATED:20200506T050602Z
LAST-MODIFIED:20200506T050602Z
UID:10000617-1600300800-1600646399@ncpgalinks.com
SUMMARY:US Open Championship
DESCRIPTION:
URL:https://ncpgalinks.com/event/us-open-championship/
LOCATION:FL
CATEGORIES:Open Events,PGA
END:VEVENT
BEGIN:VEVENT
DTSTART;VALUE=DATE:20200915
DTEND;VALUE=DATE:20200916
DTSTAMP:20260419T145608
CREATED:20200228T001958Z
LAST-MODIFIED:20200506T051221Z
UID:10000653-1600128000-1600214399@ncpgalinks.com
SUMMARY:Pure Insurance Championship Qualifier
DESCRIPTION:
URL:https://ncpgalinks.com/event/pure-championship-qualifier/
LOCATION:Bayonet Black Horse
CATEGORIES:Open Events,PGA
END:VEVENT
BEGIN:VEVENT
DTSTART;VALUE=DATE:20200911
DTEND;VALUE=DATE:20200912
DTSTAMP:20260419T145608
CREATED:20200227T205651Z
LAST-MODIFIED:20200506T051258Z
UID:10000638-1599782400-1599868799@ncpgalinks.com
SUMMARY:Pure Insurance Championship Pre-Qualifier
DESCRIPTION:
URL:https://ncpgalinks.com/event/pure-championship-pre-qualifier/
LOCATION:Del Monte Golf Course
CATEGORIES:Open Events,PGA
END:VEVENT
BEGIN:VEVENT
DTSTART;VALUE=DATE:20200910
DTEND;VALUE=DATE:20200914
DTSTAMP:20260419T145608
CREATED:20200228T001725Z
LAST-MODIFIED:20200506T051028Z
UID:10000650-1599696000-1600041599@ncpgalinks.com
SUMMARY:Safeway Open
DESCRIPTION:
URL:https://ncpgalinks.com/event/safeway-open-pre-qualifier-2/
LOCATION:Silverado Resort – North Course
CATEGORIES:Open Events,PGA
END:VEVENT
BEGIN:VEVENT
DTSTART;VALUE=DATE:20200907
DTEND;VALUE=DATE:20200908
DTSTAMP:20260419T145608
CREATED:20200228T001832Z
LAST-MODIFIED:20200506T050916Z
UID:10000652-1599436800-1599523199@ncpgalinks.com
SUMMARY:Safeway Open Qualifier
DESCRIPTION:
URL:https://ncpgalinks.com/event/safeway-open-qualifier/
LOCATION:TBD
CATEGORIES:Open Events,PGA
END:VEVENT
BEGIN:VEVENT
DTSTART;VALUE=DATE:20200902
DTEND;VALUE=DATE:20200903
DTSTAMP:20260419T145608
CREATED:20200227T205916Z
LAST-MODIFIED:20200506T050741Z
UID:10000648-1599004800-1599091199@ncpgalinks.com
SUMMARY:Safeway Open Pre-Qualifier
DESCRIPTION:
URL:https://ncpgalinks.com/event/safeway-open-pre-qualifier/
LOCATION:El Macero CC
CATEGORIES:Open Events,PGA
END:VEVENT
BEGIN:VEVENT
DTSTART;VALUE=DATE:20200803
DTEND;VALUE=DATE:20200810
DTSTAMP:20260419T145608
CREATED:20200227T204510Z
LAST-MODIFIED:20200514T001331Z
UID:10000532-1596412800-1597017599@ncpgalinks.com
SUMMARY:PGA Championship - NEW DATE!
DESCRIPTION:EVENT POSTPONED DUE TO COVID-19 RESTRICTIONS. MOVED FROM MAY TO AUGUST.
URL:https://ncpgalinks.com/event/pga-championship/
LOCATION:TPC Harding Park
CATEGORIES:PGA
END:VEVENT
BEGIN:VEVENT
DTSTART;VALUE=DATE:20200730
DTEND;VALUE=DATE:20200803
DTSTAMP:20260419T145608
CREATED:20200227T204948Z
LAST-MODIFIED:20200506T045740Z
UID:10000632-1596067200-1596412799@ncpgalinks.com
SUMMARY:Barracuda Championship
DESCRIPTION:
URL:https://ncpgalinks.com/event/barracuda-championship-pre-qualifier/
LOCATION:Old Greenwood GC
CATEGORIES:Open Events,PGA
END:VEVENT
BEGIN:VEVENT
DTSTART;VALUE=DATE:20200727
DTEND;VALUE=DATE:20200728
DTSTAMP:20260419T145608
CREATED:20200227T205205Z
LAST-MODIFIED:20200505T233553Z
UID:10000636-1595808000-1595894399@ncpgalinks.com
SUMMARY:Barracuda Championship Open Qualifier
DESCRIPTION:NEW DATE
URL:https://ncpgalinks.com/event/barracuda-championship-open-qualifier/
LOCATION:Hidden Valley CC\, Reno\, Nevada
CATEGORIES:Open Events,PGA
GEO:39.5296329;-119.8138027
END:VEVENT
BEGIN:VEVENT
DTSTART;VALUE=DATE:20200724
DTEND;VALUE=DATE:20200725
DTSTAMP:20260419T145608
CREATED:20200227T205045Z
LAST-MODIFIED:20200505T233653Z
UID:10000634-1595548800-1595635199@ncpgalinks.com
SUMMARY:Barracuda Championship Pre-Qualifier
DESCRIPTION:NEW DATE
URL:https://ncpgalinks.com/event/barracuda-championship-pre-qualifier-2/
LOCATION:Dayton Valley GC
CATEGORIES:Open Events,PGA
END:VEVENT
BEGIN:VEVENT
DTSTART;VALUE=DATE:20200719
DTEND;VALUE=DATE:20200723
DTSTAMP:20260419T145608
CREATED:20200506T050029Z
LAST-MODIFIED:20200723T222741Z
UID:10000612-1595116800-1595462399@ncpgalinks.com
SUMMARY:PGA Club Professional Championship CANCELLED
DESCRIPTION:
URL:https://ncpgalinks.com/event/pga-club-professional-championship/
LOCATION:FL
CATEGORIES:PGA
END:VEVENT
BEGIN:VEVENT
DTSTART;VALUE=DATE:20200426
DTEND;VALUE=DATE:20200501
DTSTAMP:20260419T145608
CREATED:20200227T204339Z
LAST-MODIFIED:20200320T184559Z
UID:10000531-1587859200-1588291199@ncpgalinks.com
SUMMARY:PGA Professional Championship POSTPONED
DESCRIPTION:EVENT POSTPONED DUE TO COVID-19 RESTRICTIONS. NEW DATE TBD.
URL:https://ncpgalinks.com/event/pga-professional-championship/
LOCATION:FL
CATEGORIES:PGA
END:VEVENT
END:VCALENDAR