BEGIN:VCALENDAR
VERSION:2.0
PRODID:-//Northern California PGA - ECPv6.15.20//NONSGML v1.0//EN
CALSCALE:GREGORIAN
METHOD:PUBLISH
X-WR-CALNAME:Northern California PGA
X-ORIGINAL-URL:https://ncpgalinks.com
X-WR-CALDESC:Events for Northern California PGA
REFRESH-INTERVAL;VALUE=DURATION:PT1H
X-Robots-Tag:noindex
X-PUBLISHED-TTL:PT1H
BEGIN:VTIMEZONE
TZID:UTC
BEGIN:STANDARD
TZOFFSETFROM:+0000
TZOFFSETTO:+0000
TZNAME:UTC
DTSTART:20190101T000000
END:STANDARD
END:VTIMEZONE
BEGIN:VEVENT
DTSTART;VALUE=DATE:20220110
DTEND;VALUE=DATE:20220111
DTSTAMP:20260419T221704
CREATED:20220110T200906Z
LAST-MODIFIED:20220110T201216Z
UID:10000778-1641772800-1641859199@ncpgalinks.com
SUMMARY:NCPGA Pro Series 2 / Pro-Scratch
DESCRIPTION:
URL:https://ncpgalinks.com/event/ncpga-pro-series-2-pro-scratch/
LOCATION:The Club at Ruby Hill\, 3400 W. Ruby Hill Drive\, Pleasanton\, CA\, 94566\, United States
CATEGORIES:Pro-Ams,Section
GEO:37.6400444;-121.8148827
X-APPLE-STRUCTURED-LOCATION;VALUE=URI;X-ADDRESS=The Club at Ruby Hill 3400 W. Ruby Hill Drive Pleasanton CA 94566 United States;X-APPLE-RADIUS=500;X-TITLE=3400 W. Ruby Hill Drive:geo:-121.8148827,37.6400444
END:VEVENT
BEGIN:VEVENT
DTSTART;VALUE=DATE:20211018
DTEND;VALUE=DATE:20211019
DTSTAMP:20260419T221704
CREATED:20201203T213023Z
LAST-MODIFIED:20210921T002454Z
UID:10000674-1634515200-1634601599@ncpgalinks.com
SUMMARY:Pro-President Championship
DESCRIPTION:
URL:https://ncpgalinks.com/event/pro-president-championship-2/
LOCATION:Lake Merced CC
CATEGORIES:Homepage Events,Pro-Ams,Section
END:VEVENT
BEGIN:VEVENT
DTSTART;TZID=UTC:20210920T080000
DTEND;TZID=UTC:20210920T170000
DTSTAMP:20260419T221704
CREATED:20210524T152613Z
LAST-MODIFIED:20210524T152647Z
UID:10000776-1632124800-1632157200@ncpgalinks.com
SUMMARY:SJVC Pro-Am / First Tee San Joaquin Valley
DESCRIPTION:For more information and entry form – 2021 First Tee San Joaquin Pro-Am
URL:https://ncpgalinks.com/event/sjvc-pro-am-first-tee-san-joaquin-valley/
LOCATION:Swenson Park GC\, 6803 Alexandria Place\, Stockton\, CA\, 95207
CATEGORIES:Homepage Events,Pro-Ams,San Joaquin Valley Chapter
GEO:38.0100071;-121.3413285
X-APPLE-STRUCTURED-LOCATION;VALUE=URI;X-ADDRESS=Swenson Park GC 6803 Alexandria Place Stockton CA 95207;X-APPLE-RADIUS=500;X-TITLE=6803 Alexandria Place:geo:-121.3413285,38.0100071
END:VEVENT
BEGIN:VEVENT
DTSTART;VALUE=DATE:20210816
DTEND;VALUE=DATE:20210817
DTSTAMP:20260419T221704
CREATED:20210320T194309Z
LAST-MODIFIED:20210331T002826Z
UID:10000767-1629072000-1629158399@ncpgalinks.com
SUMMARY:Stockton Shootout Pro-Am
DESCRIPTION:21_StocktonShootout_ProAmEntry
URL:https://ncpgalinks.com/event/stockton-shootout-pro-am-3/
LOCATION:Stockton G&CC
CATEGORIES:Homepage Events,Pro-Ams,San Joaquin Valley Chapter
END:VEVENT
BEGIN:VEVENT
DTSTART;VALUE=DATE:20210809
DTEND;VALUE=DATE:20210811
DTSTAMP:20260419T221704
CREATED:20201203T204830Z
LAST-MODIFIED:20210714T230032Z
UID:10000656-1628467200-1628639999@ncpgalinks.com
SUMMARY:The Langley\, A Tribute to Legends
DESCRIPTION:NCPGA Foundation’s premier golf event & fundraiser at Pebble Beach Resorts. This two day event named after our esteemed Jim Langley\, PGA who served as Head Professional at Cypress Point Club for 34 years\, and served in the U.S Marine Corp\, raises money for PGA HOPE and the Jim Langley Scholarship Fund. Spots are limited. Invitation only; send inquiries to Foundation Managing Director Sheri Sam at ssam@ncpgafoundation.org
URL:https://ncpgalinks.com/event/the-langley-a-tribute-to-legends-2/
LOCATION:Pebble Beach Golf Links
CATEGORIES:Homepage Events,NCPGA Foundation,Pro-Ams
END:VEVENT
BEGIN:VEVENT
DTSTART;VALUE=DATE:20210808
DTEND;VALUE=DATE:20210810
DTSTAMP:20260419T221704
CREATED:20210306T164433Z
LAST-MODIFIED:20210714T230627Z
UID:10000758-1628380800-1628553599@ncpgalinks.com
SUMMARY:Shasta First 5 Pro-Am POSTPONED
DESCRIPTION:Shasta First 5 Pro-AM has been postponed. It will be reschedule to a new date TBD. If you have any questions please contact Kyle Hansen\, PGA\, at (530) 224-2255.
URL:https://ncpgalinks.com/event/shasta-first-5-pro-am/
LOCATION:Riverview G&CC
CATEGORIES:Homepage Events,North State Chapter,Pro-Ams
END:VEVENT
BEGIN:VEVENT
DTSTART;VALUE=DATE:20210719
DTEND;VALUE=DATE:20210720
DTSTAMP:20260419T221704
CREATED:20210401T002223Z
LAST-MODIFIED:20210401T002223Z
UID:10000774-1626652800-1626739199@ncpgalinks.com
SUMMARY:SNC Schaffer's Mill Pro-Am
DESCRIPTION:PRO-AM INFORMATION – Schaffers Mill Pro Am Info Sheet- 2021 \nPRO-AM ENTRY FORM – Schaffers Mill Pro Am Entry – 2021
URL:https://ncpgalinks.com/event/snc-schaffers-mill-pro-am/
LOCATION:Schaffer’s Mill GC
CATEGORIES:Homepage Events,Pro-Ams,Sierra Nevada Chapter
END:VEVENT
BEGIN:VEVENT
DTSTART;VALUE=DATE:20210712
DTEND;VALUE=DATE:20210713
DTSTAMP:20260419T221704
CREATED:20201203T203949Z
LAST-MODIFIED:20210505T221117Z
UID:10000655-1626048000-1626134399@ncpgalinks.com
SUMMARY:Movers\, Shakers & Money Makers Pro-Am
DESCRIPTION:Form a Pro-Am team to represent your Club – Pro\, GM\, Club Officer\, Superintendent. Great day of golf and networking among Northern California golf course leaders.
URL:https://ncpgalinks.com/event/movers-shakers-money-makers-pro-am/
LOCATION:Round Hill
CATEGORIES:Homepage Events,Pro-Ams,Section
END:VEVENT
BEGIN:VEVENT
DTSTART;VALUE=DATE:20210612
DTEND;VALUE=DATE:20210615
DTSTAMP:20260419T221704
CREATED:20210306T164325Z
LAST-MODIFIED:20210306T164325Z
UID:10000756-1623456000-1623715199@ncpgalinks.com
SUMMARY:Redding Pro-Am
DESCRIPTION:
URL:https://ncpgalinks.com/event/redding-pro-am-2/
LOCATION:Riverview G&CC
CATEGORIES:Homepage Events,North State Chapter,Pro-Ams
END:VEVENT
BEGIN:VEVENT
DTSTART;VALUE=DATE:20210607
DTEND;VALUE=DATE:20210609
DTSTAMP:20260419T221704
CREATED:20201203T203149Z
LAST-MODIFIED:20201203T213836Z
UID:10000561-1623024000-1623196799@ncpgalinks.com
SUMMARY:Cal State Club Championship
DESCRIPTION:Old Greenwood and The Club at Gray’s Crossing\, Truckee\, CA
URL:https://ncpgalinks.com/event/cal-state-club-championship/
LOCATION:Old Greenwood/Gray’s\, Truckee\, CA\, United States
CATEGORIES:Homepage Events,Pro-Ams,Section
GEO:39.327962;-120.1832533
END:VEVENT
BEGIN:VEVENT
DTSTART;VALUE=DATE:20210502
DTEND;VALUE=DATE:20210504
DTSTAMP:20260419T221704
CREATED:20210110T010430Z
LAST-MODIFIED:20210110T010430Z
UID:10000726-1619913600-1620086399@ncpgalinks.com
SUMMARY:Wilcox Oaks Pro-Am
DESCRIPTION:
URL:https://ncpgalinks.com/event/wilcox-oaks-pro-am-2/
LOCATION:Wilcox Oaks GC\, 21010 Wilcox Road\, Red Bluff\, CA\, 96080
CATEGORIES:North Coast Chapter,Pro-Ams
GEO:40.2190391;-122.2521173
X-APPLE-STRUCTURED-LOCATION;VALUE=URI;X-ADDRESS=Wilcox Oaks GC 21010 Wilcox Road Red Bluff CA 96080;X-APPLE-RADIUS=500;X-TITLE=21010 Wilcox Road:geo:-122.2521173,40.2190391
END:VEVENT
BEGIN:VEVENT
DTSTART;VALUE=DATE:20210419
DTEND;VALUE=DATE:20210420
DTSTAMP:20260419T221704
CREATED:20201203T202522Z
LAST-MODIFIED:20201203T213931Z
UID:10000554-1618790400-1618876799@ncpgalinks.com
SUMMARY:Pro-Scotch Championship
DESCRIPTION:
URL:https://ncpgalinks.com/event/pro-scotch-championship/
LOCATION:Diablo CC\, Diablo\, CA\, United States
CATEGORIES:Homepage Events,Pro-Ams,Section
GEO:37.8349258;-121.9580149
END:VEVENT
BEGIN:VEVENT
DTSTART;VALUE=DATE:20210222
DTEND;VALUE=DATE:20210223
DTSTAMP:20260419T221704
CREATED:20201002T171857Z
LAST-MODIFIED:20201203T214003Z
UID:10000544-1613952000-1614038399@ncpgalinks.com
SUMMARY:2021 NCPGA Pro-Series #3 / Pro-Scratch
DESCRIPTION:
URL:https://ncpgalinks.com/event/2021-ncpga-pro-series-3/
LOCATION:Castlewood Country Club\, 707 Country Club Circle\, Pleasanton\, CA\, 94566\, United States
CATEGORIES:Homepage Events,Pro-Ams,Section
GEO:37.6370418;-121.8948562
X-APPLE-STRUCTURED-LOCATION;VALUE=URI;X-ADDRESS=Castlewood Country Club 707 Country Club Circle Pleasanton CA 94566 United States;X-APPLE-RADIUS=500;X-TITLE=707 Country Club Circle:geo:-121.8948562,37.6370418
END:VEVENT
BEGIN:VEVENT
DTSTART;VALUE=DATE:20210125
DTEND;VALUE=DATE:20210126
DTSTAMP:20260419T221704
CREATED:20201002T171608Z
LAST-MODIFIED:20201203T214025Z
UID:10000637-1611532800-1611619199@ncpgalinks.com
SUMMARY:2021 NCPGA Pro-Series #2 / Pro-Am
DESCRIPTION:
URL:https://ncpgalinks.com/event/2021-ncpga-pro-series-2/
LOCATION:The Club at Ruby Hill\, 3400 W. Ruby Hill Drive\, Pleasanton\, CA\, 94566\, United States
CATEGORIES:Homepage Events,Pro-Ams,Section
GEO:37.6400444;-121.8148827
X-APPLE-STRUCTURED-LOCATION;VALUE=URI;X-ADDRESS=The Club at Ruby Hill 3400 W. Ruby Hill Drive Pleasanton CA 94566 United States;X-APPLE-RADIUS=500;X-TITLE=3400 W. Ruby Hill Drive:geo:-121.8148827,37.6400444
END:VEVENT
BEGIN:VEVENT
DTSTART;VALUE=DATE:20201019
DTEND;VALUE=DATE:20201020
DTSTAMP:20260419T221704
CREATED:20200918T193008Z
LAST-MODIFIED:20200918T193008Z
UID:10000631-1603065600-1603151999@ncpgalinks.com
SUMMARY:Hidden Valley Pro-Am
DESCRIPTION:
URL:https://ncpgalinks.com/event/hidden-valley-pro-am/
LOCATION:Hidden Valley CC\, Reno\, Nevada
CATEGORIES:Pro-Ams,Sierra Nevada Chapter
GEO:39.5296329;-119.8138027
END:VEVENT
BEGIN:VEVENT
DTSTART;VALUE=DATE:20201012
DTEND;VALUE=DATE:20201013
DTSTAMP:20260419T221704
CREATED:20200130T234827Z
LAST-MODIFIED:20200130T234827Z
UID:10000622-1602460800-1602547199@ncpgalinks.com
SUMMARY:George Archer Foundation Stroke of Genius Pro-Am
DESCRIPTION:For more information contact Tom Toschi\, PGA\, (650) 638-2243 \nEmail – ttoschi@the pgcc.com
URL:https://ncpgalinks.com/event/george-archer-foundation-stroke-of-genius-pro-am/
LOCATION:Peninsula G&CC
CATEGORIES:Bay Area Chapter,Pro-Ams
END:VEVENT
BEGIN:VEVENT
DTSTART;VALUE=DATE:20201004
DTEND;VALUE=DATE:20201006
DTSTAMP:20260419T221704
CREATED:20200130T232910Z
LAST-MODIFIED:20200615T185818Z
UID:10000601-1601769600-1601942399@ncpgalinks.com
SUMMARY:Wilcox Oaks Pro-Am NEW DATE!
DESCRIPTION:NEW DATE OCTOBER 4 & 5\, 2020 \nFor more information about the Wilcox Oaks Pro-Am contact Adam Almand\, PGA\, (530) 527-7087\nEmail – adam@wilcoxoaksgolfclub.com
URL:https://ncpgalinks.com/event/wilcox-oaks-pro-am/
LOCATION:Wilcox Oaks GC\, 21010 Wilcox Road\, Red Bluff\, CA\, 96080
CATEGORIES:North State Chapter,Pro-Ams
GEO:40.2190391;-122.2521173
X-APPLE-STRUCTURED-LOCATION;VALUE=URI;X-ADDRESS=Wilcox Oaks GC 21010 Wilcox Road Red Bluff CA 96080;X-APPLE-RADIUS=500;X-TITLE=21010 Wilcox Road:geo:-122.2521173,40.2190391
END:VEVENT
BEGIN:VEVENT
DTSTART;VALUE=DATE:20200831
DTEND;VALUE=DATE:20200902
DTSTAMP:20260419T221704
CREATED:20200130T233627Z
LAST-MODIFIED:20200130T233627Z
UID:10000607-1598832000-1599004799@ncpgalinks.com
SUMMARY:Winnemucca Fall Pro-Am
DESCRIPTION:For more information contact Joseph Dendary\, PGA\, (775) 722-9844 \nEmail – jdendary@pga.com
URL:https://ncpgalinks.com/event/winnemucca-fall-pro-am/
LOCATION:Winnemucca GC
CATEGORIES:Pro-Ams,Sierra Nevada Chapter
END:VEVENT
BEGIN:VEVENT
DTSTART;VALUE=DATE:20200815
DTEND;VALUE=DATE:20200818
DTSTAMP:20260419T221704
CREATED:20200211T204154Z
LAST-MODIFIED:20200506T193657Z
UID:10000517-1597449600-1597708799@ncpgalinks.com
SUMMARY:First 5 Shasta Pro-Am (CANCELLED)
DESCRIPTION:EVENT CANCELLED DUE TO COVID-19 PUBLIC HEALTH RESTRICTIONS.
URL:https://ncpgalinks.com/event/first-5-shasta-pro-am/
LOCATION:Riverview G&CC
CATEGORIES:North State Chapter,Pro-Ams
END:VEVENT
BEGIN:VEVENT
DTSTART;VALUE=DATE:20200810
DTEND;VALUE=DATE:20200812
DTSTAMP:20260419T221704
CREATED:20200228T005000Z
LAST-MODIFIED:20200723T222513Z
UID:10000599-1597017600-1597190399@ncpgalinks.com
SUMMARY:The Langley A Tribute to Legends - CANCELLED
DESCRIPTION:EVENT CANCELLED DUE TO COVID-19 PUBLIC HEALTH RESTRICTIONS. LOOKING FORWARD TO 2021.
URL:https://ncpgalinks.com/event/the-langley-a-tribute-to-legends/
LOCATION:Pebble Beach Golf Links
CATEGORIES:NCPGA Foundation,Pro-Ams
END:VEVENT
BEGIN:VEVENT
DTSTART;VALUE=DATE:20200727
DTEND;VALUE=DATE:20200728
DTSTAMP:20260419T221704
CREATED:20200130T232607Z
LAST-MODIFIED:20200521T164513Z
UID:10000598-1595808000-1595894399@ncpgalinks.com
SUMMARY:2020 Pro-Am at The Mill 9 (CANCELLED)
DESCRIPTION:EVENT CANCELLED DUE TO COVID-19 PUBLIC HEALTH RESTRICTIONS.
URL:https://ncpgalinks.com/event/2020-pro-am-at-the-mill/
LOCATION:Schaffer’s Mill GC
CATEGORIES:Pro-Ams,Sierra Nevada Chapter
END:VEVENT
BEGIN:VEVENT
DTSTART;VALUE=DATE:20200713
DTEND;VALUE=DATE:20200714
DTSTAMP:20260419T221704
CREATED:20200127T165955Z
LAST-MODIFIED:20200409T005855Z
UID:10000553-1594598400-1594684799@ncpgalinks.com
SUMMARY:AA Titleist/Footjoy Pro-Scratch
DESCRIPTION:
URL:https://ncpgalinks.com/event/aa-titleist-footjoy-pro-scratch/
LOCATION:Silverado Resort – North Course
CATEGORIES:Assistant Associates Division,Homepage Events,Pro-Ams
END:VEVENT
BEGIN:VEVENT
DTSTART;VALUE=DATE:20200712
DTEND;VALUE=DATE:20200715
DTSTAMP:20260419T221704
CREATED:20200130T234329Z
LAST-MODIFIED:20200130T234329Z
UID:10000616-1594512000-1594771199@ncpgalinks.com
SUMMARY:Baywood Pro-Am
DESCRIPTION:For more information contact Greg Bean\, PGA\, (707) 822-3688 \nEmail – brett@baywoodgcc.com
URL:https://ncpgalinks.com/event/baywood-pro-am/
LOCATION:CA
CATEGORIES:North Coast Chapter,Pro-Ams
END:VEVENT
BEGIN:VEVENT
DTSTART;VALUE=DATE:20200613
DTEND;VALUE=DATE:20200616
DTSTAMP:20260419T221704
CREATED:20200130T234132Z
LAST-MODIFIED:20200506T193354Z
UID:10000613-1592006400-1592265599@ncpgalinks.com
SUMMARY:Redding Pro-Am (CANCELED)
DESCRIPTION:EVENT CANCELLED DUE TO COVID-19 PUBLIC HEALTH RESTRICTIONS.
URL:https://ncpgalinks.com/event/redding-pro-am/
LOCATION:Riverview G&CC
CATEGORIES:North State Chapter,Pro-Ams
END:VEVENT
BEGIN:VEVENT
DTSTART;VALUE=DATE:20200608
DTEND;VALUE=DATE:20200609
DTSTAMP:20260419T221704
CREATED:20200130T233752Z
LAST-MODIFIED:20200402T201649Z
UID:10000610-1591574400-1591660799@ncpgalinks.com
SUMMARY:Don Trolinger Scholarship Pro-Am (POSTPONED)
DESCRIPTION:PRO-AM POSTPONED DUE TO COVID-19 PUBLIC HEALTH RESTRICTIONS. FUTURE DATE TBD.\nFor more information contact Mark Sherman\, PGA\, (707) 864-0473\nEmail – pgasherm@aol.com
URL:https://ncpgalinks.com/event/don-trolinger-scholarship-pro-am/
LOCATION:Green Valley Country Club
CATEGORIES:Bay Area Chapter,Pro-Ams
END:VEVENT
BEGIN:VEVENT
DTSTART;VALUE=DATE:20200516
DTEND;VALUE=DATE:20200518
DTSTAMP:20260419T221704
CREATED:20200130T233447Z
LAST-MODIFIED:20200514T000752Z
UID:10000604-1589587200-1589759999@ncpgalinks.com
SUMMARY:Winnemucca Spring Pro-Am (CANCELLED)
DESCRIPTION:For more information contact Joseph Dendary\,PGA\, (775) 722-9844 \nEmail – jdendary@pga.com
URL:https://ncpgalinks.com/event/winnemucca-spring-pro-am/
LOCATION:Winnemucca GC
CATEGORIES:Pro-Ams,Sierra Nevada Chapter
END:VEVENT
BEGIN:VEVENT
DTSTART;VALUE=DATE:20200515
DTEND;VALUE=DATE:20200516
DTSTAMP:20260419T221704
CREATED:20200211T204340Z
LAST-MODIFIED:20200327T202333Z
UID:10000519-1589500800-1589587199@ncpgalinks.com
SUMMARY:Woodcreek's 25th Anniversary Pro-Am (POSTPONED)
DESCRIPTION:WOODCREEK PRO-AM POSTPONED DUE TO COVID-19 PUBLIC HEALTH RESTRICTIONS. FUTURE DATE TBD.
URL:https://ncpgalinks.com/event/woodcreeks-25th-anniversary-pro-am/
LOCATION:Woodcreek GC
CATEGORIES:North State Chapter,Pro-Ams
END:VEVENT
BEGIN:VEVENT
DTSTART;VALUE=DATE:20200427
DTEND;VALUE=DATE:20200429
DTSTAMP:20260419T221704
CREATED:20200130T232328Z
LAST-MODIFIED:20200506T051824Z
UID:10000596-1587945600-1588118399@ncpgalinks.com
SUMMARY:Black Oak Casino Resort Pro-Scratch CANCELLED
DESCRIPTION:EVENT POSTPONED DUE TO COVID-19 PUBLIC HEALTH RESTRICTIONS. NEW DATE TBD.
URL:https://ncpgalinks.com/event/black-oak-casino-resort-pro-scratch/
LOCATION:Teleli GC
CATEGORIES:Pro-Ams,San Joaquin Valley Chapter
END:VEVENT
BEGIN:VEVENT
DTSTART;VALUE=DATE:20200316
DTEND;VALUE=DATE:20200317
DTSTAMP:20260419T221704
CREATED:20200224T191453Z
LAST-MODIFIED:20200226T184423Z
UID:10000529-1584316800-1584403199@ncpgalinks.com
SUMMARY:Stockton Shootout Pro-Am
DESCRIPTION:For more information and to register for Stockton Shootout- CLICK HERE\nContact: Rich Howarth\, PGA\, Kelley Spoooner\, LPGA\, or Rod Souza\, PGA \nPhone (209) 466-4313
URL:https://ncpgalinks.com/event/stockton-shootout-pro-am/
LOCATION:Stockton G&CC
CATEGORIES:Pro-Ams,San Joaquin Valley Chapter
END:VEVENT
BEGIN:VEVENT
DTSTART;VALUE=DATE:20200130
DTEND;VALUE=DATE:20200131
DTSTAMP:20260419T221704
CREATED:20200130T234643Z
LAST-MODIFIED:20200130T234643Z
UID:10000619-1580342400-1580428799@ncpgalinks.com
SUMMARY:Capax-Corby\,Giddings\,Hynes Insurance/McCoy-Michellin Tire Pro-Am
DESCRIPTION:For more information contact Fred Rodriguez\, PGA\, (209) 341-2409 \nEmail – fred@delriocountryclub.com
URL:https://ncpgalinks.com/event/capax-corbygiddingshynes-insurance-mccoy-michellin-tire-pro-am/
LOCATION:Del Rio CC
CATEGORIES:Pro-Ams,San Joaquin Valley Chapter
END:VEVENT
END:VCALENDAR