BEGIN:VCALENDAR
VERSION:2.0
PRODID:-//Northern California PGA - ECPv6.15.20//NONSGML v1.0//EN
CALSCALE:GREGORIAN
METHOD:PUBLISH
X-ORIGINAL-URL:https://ncpgalinks.com
X-WR-CALDESC:Events for Northern California PGA
REFRESH-INTERVAL;VALUE=DURATION:PT1H
X-Robots-Tag:noindex
X-PUBLISHED-TTL:PT1H
BEGIN:VTIMEZONE
TZID:UTC
BEGIN:STANDARD
TZOFFSETFROM:+0000
TZOFFSETTO:+0000
TZNAME:UTC
DTSTART:20220101T000000
END:STANDARD
END:VTIMEZONE
BEGIN:VEVENT
DTSTART;VALUE=DATE:20230213
DTEND;VALUE=DATE:20230214
DTSTAMP:20260421T122455
CREATED:20221213T213621Z
LAST-MODIFIED:20230117T180827Z
UID:10000850-1676246400-1676332799@ncpgalinks.com
SUMMARY:NCPGA 2023 Pro-Series 3 / Pro-Scratch
DESCRIPTION:
URL:https://ncpgalinks.com/event/ncpga-2023-pro-series-3-pro-scratch/
LOCATION:Ruby Hill Golf Club\, Pleasanton\, CA\, United States
CATEGORIES:Section
ATTACH;FMTTYPE=image/jpeg:https://ncpgalinks.com/wp-content/uploads/sites/35/2022/12/512x512bb.jpg
GEO:37.6604484;-121.8757968
END:VEVENT
BEGIN:VEVENT
DTSTART;VALUE=DATE:20230213
DTEND;VALUE=DATE:20230215
DTSTAMP:20260421T122455
CREATED:20221214T185144Z
LAST-MODIFIED:20221214T185144Z
UID:10000857-1676246400-1676419199@ncpgalinks.com
SUMMARY:2023 Nor Cal Golf Rep Show Event
DESCRIPTION:
URL:https://ncpgalinks.com/event/2023-nor-cal-golf-rep-show-event/
LOCATION:Sunrise Event Center\, Vacaville
CATEGORIES:Section
END:VEVENT
BEGIN:VEVENT
DTSTART;VALUE=DATE:20230227
DTEND;VALUE=DATE:20230228
DTSTAMP:20260421T122455
CREATED:20221213T213905Z
LAST-MODIFIED:20221213T213905Z
UID:10000851-1677456000-1677542399@ncpgalinks.com
SUMMARY:NCPGA 2023 Sadie Hawkins
DESCRIPTION:
URL:https://ncpgalinks.com/event/ncpga-2023-sadie-hawkins/
LOCATION:Quail Lodge GC
CATEGORIES:Section
END:VEVENT
END:VCALENDAR