BEGIN:VCALENDAR
VERSION:2.0
PRODID:-//Northern California PGA - ECPv6.15.20//NONSGML v1.0//EN
CALSCALE:GREGORIAN
METHOD:PUBLISH
X-WR-CALNAME:Northern California PGA
X-ORIGINAL-URL:https://ncpgalinks.com
X-WR-CALDESC:Events for Northern California PGA
REFRESH-INTERVAL;VALUE=DURATION:PT1H
X-Robots-Tag:noindex
X-PUBLISHED-TTL:PT1H
BEGIN:VTIMEZONE
TZID:UTC
BEGIN:STANDARD
TZOFFSETFROM:+0000
TZOFFSETTO:+0000
TZNAME:UTC
DTSTART:20220101T000000
END:STANDARD
END:VTIMEZONE
BEGIN:VEVENT
DTSTART;VALUE=DATE:20231009
DTEND;VALUE=DATE:20231010
DTSTAMP:20260423T134254
CREATED:20230523T162828Z
LAST-MODIFIED:20230523T162828Z
UID:10000729-1696809600-1696895999@ncpgalinks.com
SUMMARY:2023 Tournament of Champions
DESCRIPTION:
URL:https://ncpgalinks.com/event/2023-tournament-of-champions/
LOCATION:Schaffer’s Mill GC
CATEGORIES:Section
END:VEVENT
END:VCALENDAR