BEGIN:VCALENDAR
VERSION:2.0
PRODID:-//Northern California PGA - ECPv6.15.20//NONSGML v1.0//EN
CALSCALE:GREGORIAN
METHOD:PUBLISH
X-ORIGINAL-URL:https://ncpgalinks.com
X-WR-CALDESC:Events for Northern California PGA
REFRESH-INTERVAL;VALUE=DURATION:PT1H
X-Robots-Tag:noindex
X-PUBLISHED-TTL:PT1H
BEGIN:VTIMEZONE
TZID:UTC
BEGIN:STANDARD
TZOFFSETFROM:+0000
TZOFFSETTO:+0000
TZNAME:UTC
DTSTART:20190101T000000
END:STANDARD
END:VTIMEZONE
BEGIN:VEVENT
DTSTART;VALUE=DATE:20200831
DTEND;VALUE=DATE:20200902
DTSTAMP:20260425T233959
CREATED:20200130T233627Z
LAST-MODIFIED:20200130T233627Z
UID:10000607-1598832000-1599004799@ncpgalinks.com
SUMMARY:Winnemucca Fall Pro-Am
DESCRIPTION:For more information contact Joseph Dendary\, PGA\, (775) 722-9844 \nEmail – jdendary@pga.com
URL:https://ncpgalinks.com/event/winnemucca-fall-pro-am/
LOCATION:Winnemucca GC
CATEGORIES:Pro-Ams,Sierra Nevada Chapter
END:VEVENT
BEGIN:VEVENT
DTSTART;VALUE=DATE:20200903
DTEND;VALUE=DATE:20200904
DTSTAMP:20260425T233959
CREATED:20200127T164510Z
LAST-MODIFIED:20200506T044722Z
UID:10000540-1599091200-1599177599@ncpgalinks.com
SUMMARY:SNC Pro-Pro #1
DESCRIPTION:NEW DATE
URL:https://ncpgalinks.com/event/snc-pro-pro-1/
LOCATION:Montreux G&CC
CATEGORIES:Sierra Nevada Chapter
END:VEVENT
BEGIN:VEVENT
DTSTART;VALUE=DATE:20200908
DTEND;VALUE=DATE:20200909
DTSTAMP:20260425T233959
CREATED:20200127T164756Z
LAST-MODIFIED:20200409T010605Z
UID:10000542-1599523200-1599609599@ncpgalinks.com
SUMMARY:SNC Stroke Play Championship
DESCRIPTION:
URL:https://ncpgalinks.com/event/snc-stroke-play/
LOCATION:Edgewood Tahoe Resort
CATEGORIES:Homepage Events,Sierra Nevada Chapter
END:VEVENT
END:VCALENDAR