BEGIN:VCALENDAR
VERSION:2.0
PRODID:-//Northern California PGA - ECPv6.15.20//NONSGML v1.0//EN
CALSCALE:GREGORIAN
METHOD:PUBLISH
X-WR-CALNAME:Northern California PGA
X-ORIGINAL-URL:https://ncpgalinks.com
X-WR-CALDESC:Events for Northern California PGA
REFRESH-INTERVAL;VALUE=DURATION:PT1H
X-Robots-Tag:noindex
X-PUBLISHED-TTL:PT1H
BEGIN:VTIMEZONE
TZID:UTC
BEGIN:STANDARD
TZOFFSETFROM:+0000
TZOFFSETTO:+0000
TZNAME:UTC
DTSTART:20190101T000000
END:STANDARD
END:VTIMEZONE
BEGIN:VEVENT
DTSTART;TZID=UTC:20200203T080000
DTEND;TZID=UTC:20200203T170000
DTSTAMP:20260424T085643
CREATED:20200122T234538Z
LAST-MODIFIED:20200123T001305Z
UID:10000537-1580716800-1580749200@ncpgalinks.com
SUMMARY:Senior/Super Sr Annual Meeting & Pro-Pro 2
DESCRIPTION:Click Here to Register
URL:https://ncpgalinks.com/event/senior-super-sr-annual-meeting-pro-pro-2/
LOCATION:Elkhorn CC\, Stockton\, CA
END:VEVENT
BEGIN:VEVENT
DTSTART;VALUE=DATE:20200210
DTEND;VALUE=DATE:20200211
DTSTAMP:20260424T085643
CREATED:20200115T163603Z
LAST-MODIFIED:20200115T163701Z
UID:10000511-1581292800-1581379199@ncpgalinks.com
SUMMARY:2020 Pro-Series 3 / Pro-Scratch
DESCRIPTION:
URL:https://ncpgalinks.com/event/2020-pro-series-3-pro-scratch/
LOCATION:Castlewood CC – Valley\, Pleasanton\, CA\, United States
GEO:37.6604484;-121.8757968
END:VEVENT
BEGIN:VEVENT
DTSTART;VALUE=DATE:20200217
DTEND;VALUE=DATE:20200218
DTSTAMP:20260424T085643
CREATED:20200127T215330Z
LAST-MODIFIED:20200127T215330Z
UID:10000490-1581897600-1581983999@ncpgalinks.com
SUMMARY:MBAC Match Play Qualifier
DESCRIPTION:Click Here to register
URL:https://ncpgalinks.com/event/mbac-match-play-qualifier/
LOCATION:Bayonet Black Horse
CATEGORIES:Homepage Events,Monterey Bay Area Chapter
END:VEVENT
BEGIN:VEVENT
DTSTART;VALUE=DATE:20200224
DTEND;VALUE=DATE:20200225
DTSTAMP:20260424T085643
CREATED:20200127T165603Z
LAST-MODIFIED:20200127T165603Z
UID:10000547-1582502400-1582588799@ncpgalinks.com
SUMMARY:AA Medal Play #2
DESCRIPTION:Click Here to register
URL:https://ncpgalinks.com/event/aa-medal-play-2/
LOCATION:Meadow Club
CATEGORIES:Assistant Associates Division,Homepage Events
END:VEVENT
BEGIN:VEVENT
DTSTART;VALUE=DATE:20200224
DTEND;VALUE=DATE:20200226
DTSTAMP:20260424T085643
CREATED:20200218T213851Z
LAST-MODIFIED:20200218T214033Z
UID:10000523-1582502400-1582675199@ncpgalinks.com
SUMMARY:NCGRA Expo
DESCRIPTION:For more information & to register for the Expo – CLICK HERE
URL:https://ncpgalinks.com/event/ncgra-expo/
LOCATION:Thunder Valley Resort Casino
CATEGORIES:Education / Industry
END:VEVENT
BEGIN:VEVENT
DTSTART;TZID=UTC:20200224T083000
DTEND;TZID=UTC:20200224T100000
DTSTAMP:20260424T085643
CREATED:20200218T214253Z
LAST-MODIFIED:20200218T214615Z
UID:10000525-1582533000-1582538400@ncpgalinks.com
SUMMARY:NCGRA Expo Monday AM Seminar
DESCRIPTION:For more information & to register for Monday AM seminar – CLICK HERE
URL:https://ncpgalinks.com/event/ncgra-monday-am-seminar/
LOCATION:Thunder Valley Resort Casino
CATEGORIES:Education / Industry
END:VEVENT
BEGIN:VEVENT
DTSTART;TZID=UTC:20200225T083000
DTEND;TZID=UTC:20200225T100000
DTSTAMP:20260424T085643
CREATED:20200218T214510Z
LAST-MODIFIED:20200218T214510Z
UID:10000527-1582619400-1582624800@ncpgalinks.com
SUMMARY:NCGRA Expo Tuesday AM Seminar
DESCRIPTION:For more information & to register for Tuesday AM seminar – CLICK HERE
URL:https://ncpgalinks.com/event/ncgra-expo-tuesday-am-seminar/
LOCATION:Thunder Valley Resort Casino
CATEGORIES:Education / Industry
END:VEVENT
END:VCALENDAR