BEGIN:VCALENDAR
VERSION:2.0
PRODID:-//Northern California PGA - ECPv6.15.20//NONSGML v1.0//EN
CALSCALE:GREGORIAN
METHOD:PUBLISH
X-ORIGINAL-URL:https://ncpgalinks.com
X-WR-CALDESC:Events for Northern California PGA
REFRESH-INTERVAL;VALUE=DURATION:PT1H
X-Robots-Tag:noindex
X-PUBLISHED-TTL:PT1H
BEGIN:VTIMEZONE
TZID:UTC
BEGIN:STANDARD
TZOFFSETFROM:+0000
TZOFFSETTO:+0000
TZNAME:UTC
DTSTART:20200101T000000
END:STANDARD
END:VTIMEZONE
BEGIN:VEVENT
DTSTART;VALUE=DATE:20210926
DTEND;VALUE=DATE:20211002
DTSTAMP:20260424T225552
CREATED:20201203T212624Z
LAST-MODIFIED:20201203T212624Z
UID:10000668-1632614400-1633132799@ncpgalinks.com
SUMMARY:Korn Ferry Q-School First Stage
DESCRIPTION:
URL:https://ncpgalinks.com/event/korn-ferry-q-school-first-stage/
LOCATION:Dayton Valley GC
CATEGORIES:PGA,Section
END:VEVENT
BEGIN:VEVENT
DTSTART;VALUE=DATE:20211004
DTEND;VALUE=DATE:20211007
DTSTAMP:20260424T225552
CREATED:20201203T212738Z
LAST-MODIFIED:20201203T212738Z
UID:10000670-1633305600-1633564799@ncpgalinks.com
SUMMARY:Northern California Open
DESCRIPTION:
URL:https://ncpgalinks.com/event/northern-california-open/
LOCATION:Coyote Creek GC
CATEGORIES:Homepage Events,Open Events,Section
END:VEVENT
BEGIN:VEVENT
DTSTART;VALUE=DATE:20211006
DTEND;VALUE=DATE:20211007
DTSTAMP:20260424T225552
CREATED:20210104T232113Z
LAST-MODIFIED:20210104T232113Z
UID:10000578-1633478400-1633564799@ncpgalinks.com
SUMMARY:Player Ability Test #9
DESCRIPTION:For more information and to register for this PAT\, contact PGA of America at (800) 474-2776.
URL:https://ncpgalinks.com/event/player-ability-test-9/
LOCATION:Windsor Golf Course\, 1340 19th Hole Drive\, Windsor\, CA\, United States
GEO:38.52734;-122.803723
X-APPLE-STRUCTURED-LOCATION;VALUE=URI;X-ADDRESS=Windsor Golf Course 1340 19th Hole Drive Windsor CA United States;X-APPLE-RADIUS=500;X-TITLE=1340 19th Hole Drive:geo:-122.803723,38.52734
END:VEVENT
BEGIN:VEVENT
DTSTART;VALUE=DATE:20211010
DTEND;VALUE=DATE:20211011
DTSTAMP:20260424T225552
CREATED:20210106T231808Z
LAST-MODIFIED:20210106T231808Z
UID:10000720-1633824000-1633910399@ncpgalinks.com
SUMMARY:AA Par 3 (9x9x9)
DESCRIPTION:
URL:https://ncpgalinks.com/event/aa-par-3-9x9x9/
LOCATION:Mariner’s Point GC\, 2401 E. 3rd Avenue\, Foster City\, CA\, 94404
CATEGORIES:Assistant Associates Division
GEO:37.5728203;-122.2820477
X-APPLE-STRUCTURED-LOCATION;VALUE=URI;X-ADDRESS=Mariner’s Point GC 2401 E. 3rd Avenue Foster City CA 94404;X-APPLE-RADIUS=500;X-TITLE=2401 E. 3rd Avenue:geo:-122.2820477,37.5728203
END:VEVENT
BEGIN:VEVENT
DTSTART;VALUE=DATE:20211010
DTEND;VALUE=DATE:20211011
DTSTAMP:20260424T225552
CREATED:20210323T232811Z
LAST-MODIFIED:20210922T181740Z
UID:10000772-1633824000-1633910399@ncpgalinks.com
SUMMARY:SJVC Chapter Championship
DESCRIPTION:
URL:https://ncpgalinks.com/event/sjvc-chapter-championship-2/
LOCATION:Madera CC\, 19297 Road 26\, Madera\, CA\, 93638
CATEGORIES:Homepage Events,San Joaquin Valley Chapter
GEO:37.0300323;-120.0716726
X-APPLE-STRUCTURED-LOCATION;VALUE=URI;X-ADDRESS=Madera CC 19297 Road 26 Madera CA 93638;X-APPLE-RADIUS=500;X-TITLE=19297 Road 26:geo:-120.0716726,37.0300323
END:VEVENT
BEGIN:VEVENT
DTSTART;VALUE=DATE:20211011
DTEND;VALUE=DATE:20211012
DTSTAMP:20260424T225552
CREATED:20210106T232015Z
LAST-MODIFIED:20210106T232015Z
UID:10000722-1633910400-1633996799@ncpgalinks.com
SUMMARY:AA Medal Play #8
DESCRIPTION:
URL:https://ncpgalinks.com/event/aa-medal-play-8/
LOCATION:Poplar Creek GC\, 1700 Coyote Point Drive\, San Mateo\, CA\, 94401
CATEGORIES:Assistant Associates Division,Homepage Events
GEO:37.585553;-122.3235065
X-APPLE-STRUCTURED-LOCATION;VALUE=URI;X-ADDRESS=Poplar Creek GC 1700 Coyote Point Drive San Mateo CA 94401;X-APPLE-RADIUS=500;X-TITLE=1700 Coyote Point Drive:geo:-122.3235065,37.585553
END:VEVENT
BEGIN:VEVENT
DTSTART;VALUE=DATE:20211011
DTEND;VALUE=DATE:20211012
DTSTAMP:20260424T225552
CREATED:20210201T220022Z
LAST-MODIFIED:20210201T220022Z
UID:10000738-1633910400-1633996799@ncpgalinks.com
SUMMARY:MBAC Fall Pro-Am
DESCRIPTION:
URL:https://ncpgalinks.com/event/mbac-fall-pro-am-2/
LOCATION:TBD
CATEGORIES:Homepage Events,Monterey Bay Area Chapter
END:VEVENT
BEGIN:VEVENT
DTSTART;VALUE=DATE:20211011
DTEND;VALUE=DATE:20211013
DTSTAMP:20260424T225552
CREATED:20210201T221637Z
LAST-MODIFIED:20210201T221637Z
UID:10000746-1633910400-1634083199@ncpgalinks.com
SUMMARY:SNC Brooks Park Cup
DESCRIPTION:
URL:https://ncpgalinks.com/event/snc-brooks-park-cup/
LOCATION:Edgewood Tahoe Resort
CATEGORIES:Homepage Events,Sierra Nevada Chapter
END:VEVENT
BEGIN:VEVENT
DTSTART;VALUE=DATE:20211018
DTEND;VALUE=DATE:20211019
DTSTAMP:20260424T225552
CREATED:20201203T213023Z
LAST-MODIFIED:20210921T002454Z
UID:10000674-1634515200-1634601599@ncpgalinks.com
SUMMARY:Pro-President Championship
DESCRIPTION:
URL:https://ncpgalinks.com/event/pro-president-championship-2/
LOCATION:Lake Merced CC
CATEGORIES:Homepage Events,Pro-Ams,Section
END:VEVENT
BEGIN:VEVENT
DTSTART;VALUE=DATE:20211018
DTEND;VALUE=DATE:20211019
DTSTAMP:20260424T225552
CREATED:20210201T221752Z
LAST-MODIFIED:20210201T221752Z
UID:10000747-1634515200-1634601599@ncpgalinks.com
SUMMARY:SNC Fall Pro-Am
DESCRIPTION:
URL:https://ncpgalinks.com/event/snc-fall-pro-am/
LOCATION:Hidden Valley CC\, Reno\, Nevada
CATEGORIES:Homepage Events,Sierra Nevada Chapter
GEO:39.5296329;-119.8138027
END:VEVENT
BEGIN:VEVENT
DTSTART;VALUE=DATE:20211021
DTEND;VALUE=DATE:20211025
DTSTAMP:20260424T225552
CREATED:20201203T212919Z
LAST-MODIFIED:20201203T212919Z
UID:10000672-1634774400-1635119999@ncpgalinks.com
SUMMARY:Senior PGA Professional Championship
DESCRIPTION:
URL:https://ncpgalinks.com/event/senior-pga-professional-championship/
LOCATION:PGA GC\, Port St. Lucie\, FL
CATEGORIES:Homepage Events,PGA
END:VEVENT
END:VCALENDAR