BEGIN:VCALENDAR
VERSION:2.0
PRODID:-//Northern California PGA - ECPv6.15.20//NONSGML v1.0//EN
CALSCALE:GREGORIAN
METHOD:PUBLISH
X-WR-CALNAME:Northern California PGA
X-ORIGINAL-URL:https://ncpgalinks.com
X-WR-CALDESC:Events for Northern California PGA
REFRESH-INTERVAL;VALUE=DURATION:PT1H
X-Robots-Tag:noindex
X-PUBLISHED-TTL:PT1H
BEGIN:VTIMEZONE
TZID:UTC
BEGIN:STANDARD
TZOFFSETFROM:+0000
TZOFFSETTO:+0000
TZNAME:UTC
DTSTART:20200101T000000
END:STANDARD
END:VTIMEZONE
BEGIN:VEVENT
DTSTART;VALUE=DATE:20211101
DTEND;VALUE=DATE:20211102
DTSTAMP:20260419T215631
CREATED:20210128T232617Z
LAST-MODIFIED:20210128T232617Z
UID:10000608-1635724800-1635811199@ncpgalinks.com
SUMMARY:NSC Scotch/Scramble Pro-Pro
DESCRIPTION:
URL:https://ncpgalinks.com/event/nsc-scotch-scramble-pro-pro/
LOCATION:Ancil Hoffman GC\, 6700 Tarshes Drive\, Carmichael\, CA\, 95608
CATEGORIES:Homepage Events,North State Chapter
GEO:38.6108432;-121.3104199
X-APPLE-STRUCTURED-LOCATION;VALUE=URI;X-ADDRESS=Ancil Hoffman GC 6700 Tarshes Drive Carmichael CA 95608;X-APPLE-RADIUS=500;X-TITLE=6700 Tarshes Drive:geo:-121.3104199,38.6108432
END:VEVENT
BEGIN:VEVENT
DTSTART;VALUE=DATE:20211101
DTEND;VALUE=DATE:20211102
DTSTAMP:20260419T215631
CREATED:20210201T221840Z
LAST-MODIFIED:20210201T221840Z
UID:10000748-1635724800-1635811199@ncpgalinks.com
SUMMARY:SNC Pro-Pro #4
DESCRIPTION:
URL:https://ncpgalinks.com/event/snc-pro-pro-4-2/
LOCATION:Somersett G&CC
CATEGORIES:Homepage Events,Sierra Nevada Chapter
END:VEVENT
BEGIN:VEVENT
DTSTART;VALUE=DATE:20211105
DTEND;VALUE=DATE:20211108
DTSTAMP:20260419T215631
CREATED:20210106T232330Z
LAST-MODIFIED:20210106T232330Z
UID:10000724-1636070400-1636329599@ncpgalinks.com
SUMMARY:AA North-South Cup Matches
DESCRIPTION:NCPGA v. SCPGA – 2021 HOSTED BY SOUTHERN CALIFORNIA PGA.
URL:https://ncpgalinks.com/event/aa-north-south-cup-matches-2/
LOCATION:TBD
CATEGORIES:Assistant Associates Division,Homepage Events
END:VEVENT
BEGIN:VEVENT
DTSTART;VALUE=DATE:20211108
DTEND;VALUE=DATE:20211109
DTSTAMP:20260419T215631
CREATED:20201203T213223Z
LAST-MODIFIED:20201203T213223Z
UID:10000677-1636329600-1636415999@ncpgalinks.com
SUMMARY:2022 Pro Series #1
DESCRIPTION:Location TBD
URL:https://ncpgalinks.com/event/2022-pro-series-1/
CATEGORIES:Homepage Events,Section
END:VEVENT
BEGIN:VEVENT
DTSTART;VALUE=DATE:20211111
DTEND;VALUE=DATE:20211115
DTSTAMP:20260419T215631
CREATED:20201203T213330Z
LAST-MODIFIED:20201203T213330Z
UID:10000679-1636588800-1636934399@ncpgalinks.com
SUMMARY:National Assistant PGA Professional Championship
DESCRIPTION:
URL:https://ncpgalinks.com/event/national-assistant-pga-professional-championship/
LOCATION:PGA GC\, Port St. Lucie\, FL
CATEGORIES:Assistant Associates Division,PGA
END:VEVENT
BEGIN:VEVENT
DTSTART;VALUE=DATE:20211115
DTEND;VALUE=DATE:20211116
DTSTAMP:20260419T215631
CREATED:20210201T222017Z
LAST-MODIFIED:20210201T222017Z
UID:10000749-1636934400-1637020799@ncpgalinks.com
SUMMARY:SNC Golf Event TBD
DESCRIPTION:
URL:https://ncpgalinks.com/event/snc-golf-event-tbd/
LOCATION:TBD
CATEGORIES:Homepage Events,Sierra Nevada Chapter
END:VEVENT
BEGIN:VEVENT
DTSTART;VALUE=DATE:20211115
DTEND;VALUE=DATE:20211116
DTSTAMP:20260419T215631
CREATED:20210922T182156Z
LAST-MODIFIED:20210922T182352Z
UID:10000777-1636934400-1637020799@ncpgalinks.com
SUMMARY:NCPGA 2022 Pro Series # 1
DESCRIPTION:
URL:https://ncpgalinks.com/event/ncpga-2022-pro-series-1/
LOCATION:Claremont\, 5295 Broadway Terrace\, Oakland\, CA\, 94618\, United States
CATEGORIES:Section
GEO:37.8365508;-122.247442
X-APPLE-STRUCTURED-LOCATION;VALUE=URI;X-ADDRESS=Claremont 5295 Broadway Terrace Oakland CA 94618 United States;X-APPLE-RADIUS=500;X-TITLE=5295 Broadway Terrace:geo:-122.247442,37.8365508
END:VEVENT
BEGIN:VEVENT
DTSTART;VALUE=DATE:20211117
DTEND;VALUE=DATE:20211118
DTSTAMP:20260419T215631
CREATED:20210323T235211Z
LAST-MODIFIED:20210323T235211Z
UID:10000773-1637107200-1637193599@ncpgalinks.com
SUMMARY:SJVC Civil War
DESCRIPTION:
URL:https://ncpgalinks.com/event/sjvc-civil-war-2/
LOCATION:Ridge Creek GC\, 3018 Ridge Creek Drive\, Dinuba\, CA\, 93618
CATEGORIES:Homepage Events,San Joaquin Valley Chapter
GEO:36.5417683;-119.4322096
X-APPLE-STRUCTURED-LOCATION;VALUE=URI;X-ADDRESS=Ridge Creek GC 3018 Ridge Creek Drive Dinuba CA 93618;X-APPLE-RADIUS=500;X-TITLE=3018 Ridge Creek Drive:geo:-119.4322096,36.5417683
END:VEVENT
BEGIN:VEVENT
DTSTART;VALUE=DATE:20211122
DTEND;VALUE=DATE:20211123
DTSTAMP:20260419T215631
CREATED:20210106T215441Z
LAST-MODIFIED:20210106T215825Z
UID:10000587-1637539200-1637625599@ncpgalinks.com
SUMMARY:2022 Senior/Super Sr Pro-Pro 1
DESCRIPTION:
URL:https://ncpgalinks.com/event/2022-senior-super-sr-pro-pro-1/
LOCATION:Del Paso CC\, 3333 Marconi Avenue\, Sacramento\, California\, 95821
CATEGORIES:Homepage Events,Senior Division
GEO:38.619218;-121.3871273
X-APPLE-STRUCTURED-LOCATION;VALUE=URI;X-ADDRESS=Del Paso CC 3333 Marconi Avenue Sacramento California 95821;X-APPLE-RADIUS=500;X-TITLE=3333 Marconi Avenue:geo:-121.3871273,38.619218
END:VEVENT
BEGIN:VEVENT
DTSTART;VALUE=DATE:20211129
DTEND;VALUE=DATE:20211130
DTSTAMP:20260419T215631
CREATED:20210201T220118Z
LAST-MODIFIED:20210201T220118Z
UID:10000740-1638144000-1638230399@ncpgalinks.com
SUMMARY:MBAC Season Finale
DESCRIPTION:
URL:https://ncpgalinks.com/event/mbac-season-finale/
LOCATION:TBD
CATEGORIES:Homepage Events,Monterey Bay Area Chapter
END:VEVENT
END:VCALENDAR