BEGIN:VCALENDAR
VERSION:2.0
PRODID:-//Northern California PGA - ECPv6.15.20//NONSGML v1.0//EN
CALSCALE:GREGORIAN
METHOD:PUBLISH
X-WR-CALNAME:Northern California PGA
X-ORIGINAL-URL:https://ncpgalinks.com
X-WR-CALDESC:Events for Northern California PGA
REFRESH-INTERVAL;VALUE=DURATION:PT1H
X-Robots-Tag:noindex
X-PUBLISHED-TTL:PT1H
BEGIN:VTIMEZONE
TZID:UTC
BEGIN:STANDARD
TZOFFSETFROM:+0000
TZOFFSETTO:+0000
TZNAME:UTC
DTSTART:20210101T000000
END:STANDARD
END:VTIMEZONE
BEGIN:VEVENT
DTSTART;VALUE=DATE:20220207
DTEND;VALUE=DATE:20220208
DTSTAMP:20260423T070413
CREATED:20220110T202154Z
LAST-MODIFIED:20220110T202154Z
UID:10000782-1644192000-1644278399@ncpgalinks.com
SUMMARY:NCPGA Pro Series 3 / Pro-Am Net
DESCRIPTION:
URL:https://ncpgalinks.com/event/ncpga-pro-series-3-pro-am-net/
LOCATION:Castlewood Country Club\, 707 Country Club Circle\, Pleasanton\, CA\, 94566\, United States
CATEGORIES:Pro-Ams,Section
GEO:37.6370418;-121.8948562
X-APPLE-STRUCTURED-LOCATION;VALUE=URI;X-ADDRESS=Castlewood Country Club 707 Country Club Circle Pleasanton CA 94566 United States;X-APPLE-RADIUS=500;X-TITLE=707 Country Club Circle:geo:-121.8948562,37.6370418
END:VEVENT
BEGIN:VEVENT
DTSTART;VALUE=DATE:20220214
DTEND;VALUE=DATE:20220215
DTSTAMP:20260423T070413
CREATED:20220111T200943Z
LAST-MODIFIED:20220111T200943Z
UID:10000684-1644796800-1644883199@ncpgalinks.com
SUMMARY:SJVC Annual Meeting & Match Play Qualifier
DESCRIPTION:
URL:https://ncpgalinks.com/event/sjvc-annual-meeting-match-play-qualifier/
LOCATION:TBD
CATEGORIES:San Joaquin Valley Chapter
END:VEVENT
BEGIN:VEVENT
DTSTART;VALUE=DATE:20220221
DTEND;VALUE=DATE:20220223
DTSTAMP:20260423T070413
CREATED:20220111T192036Z
LAST-MODIFIED:20220111T192036Z
UID:10000816-1645401600-1645574399@ncpgalinks.com
SUMMARY:NCGRA Golf Rep Show
DESCRIPTION:
URL:https://ncpgalinks.com/event/ncgra-golf-rep-show/
LOCATION:Thunder Valley Resort Casino
CATEGORIES:Education / Industry
END:VEVENT
BEGIN:VEVENT
DTSTART;TZID=UTC:20220221T083000
DTEND;TZID=UTC:20220221T100000
DTSTAMP:20260423T070413
CREATED:20220209T235124Z
LAST-MODIFIED:20220209T235124Z
UID:10000833-1645432200-1645437600@ncpgalinks.com
SUMMARY:NCGRA Education Seminar #1
DESCRIPTION:Sign up Now! Education Seminar #1 at the NCGRA Rep Show\, Monday 2/21 8:30AM – $20
URL:https://ncpgalinks.com/event/ncgra-education-seminar-1/
LOCATION:Thunder Valley Resort Casino
CATEGORIES:Education / Industry,Section
END:VEVENT
BEGIN:VEVENT
DTSTART;TZID=UTC:20220222T083000
DTEND;TZID=UTC:20220222T100000
DTSTAMP:20260423T070413
CREATED:20220209T235433Z
LAST-MODIFIED:20220210T000540Z
UID:10000834-1645518600-1645524000@ncpgalinks.com
SUMMARY:NCGRA Education Seminar #2
DESCRIPTION:Sign up now! Education Seminar #2 – 8:30AM Tue 2/22 at the NCGRA Rep Show – $20
URL:https://ncpgalinks.com/event/ncgra-education-seminar-2/
LOCATION:Thunder Valley Resort Casino
CATEGORIES:Education / Industry,Section
END:VEVENT
BEGIN:VEVENT
DTSTART;VALUE=DATE:20220228
DTEND;VALUE=DATE:20220301
DTSTAMP:20260423T070413
CREATED:20220110T205050Z
LAST-MODIFIED:20220219T222851Z
UID:10000644-1646006400-1646092799@ncpgalinks.com
SUMMARY:PGA HOPE Instructor Training Seminar
DESCRIPTION:Free adaptive golf teaching seminar for PGA & LPGA members. Lunch included. Class A Members earn 6 required msr credits.
URL:https://ncpgalinks.com/event/pga-hope-instructor-training-seminar-2/
LOCATION:Diablo Creek GC
CATEGORIES:Education / Industry,NCPGA Foundation
END:VEVENT
BEGIN:VEVENT
DTSTART;VALUE=DATE:20220228
DTEND;VALUE=DATE:20220301
DTSTAMP:20260423T070413
CREATED:20220111T192632Z
LAST-MODIFIED:20220111T192632Z
UID:10000817-1646006400-1646092799@ncpgalinks.com
SUMMARY:Senior/Super Senior Pro-Pro 3
DESCRIPTION:
URL:https://ncpgalinks.com/event/senior-super-senior-pro-pro-3/
LOCATION:Cinnabar Hills GC\, 23600 McKean Road\, San Jose\, California\, 95141
CATEGORIES:Senior Division
GEO:37.1695877;-121.7508167
X-APPLE-STRUCTURED-LOCATION;VALUE=URI;X-ADDRESS=Cinnabar Hills GC 23600 McKean Road San Jose California 95141;X-APPLE-RADIUS=500;X-TITLE=23600 McKean Road:geo:-121.7508167,37.1695877
END:VEVENT
BEGIN:VEVENT
DTSTART;VALUE=DATE:20220228
DTEND;VALUE=DATE:20220301
DTSTAMP:20260423T070413
CREATED:20220111T195437Z
LAST-MODIFIED:20220111T195437Z
UID:10000825-1646006400-1646092799@ncpgalinks.com
SUMMARY:AA Cleveland Golf Challenge
DESCRIPTION:
URL:https://ncpgalinks.com/event/aa-cleveland-golf-challenge/
CATEGORIES:Assistant Associates Division
END:VEVENT
END:VCALENDAR