BEGIN:VCALENDAR
VERSION:2.0
PRODID:-//Northern California PGA - ECPv6.15.20//NONSGML v1.0//EN
CALSCALE:GREGORIAN
METHOD:PUBLISH
X-WR-CALNAME:Northern California PGA
X-ORIGINAL-URL:https://ncpgalinks.com
X-WR-CALDESC:Events for Northern California PGA
REFRESH-INTERVAL;VALUE=DURATION:PT1H
X-Robots-Tag:noindex
X-PUBLISHED-TTL:PT1H
BEGIN:VTIMEZONE
TZID:UTC
BEGIN:STANDARD
TZOFFSETFROM:+0000
TZOFFSETTO:+0000
TZNAME:UTC
DTSTART:20210101T000000
END:STANDARD
END:VTIMEZONE
BEGIN:VEVENT
DTSTART;VALUE=DATE:20220706
DTEND;VALUE=DATE:20220707
DTSTAMP:20260421T174148
CREATED:20220111T174808Z
LAST-MODIFIED:20220111T174808Z
UID:10000645-1657065600-1657151999@ncpgalinks.com
SUMMARY:Barracuda Championship Pre-Qualifier
DESCRIPTION:
URL:https://ncpgalinks.com/event/barracuda-championship-pre-qualifier-3/
LOCATION:Yolo Fliers Club
CATEGORIES:Open Events,Section
END:VEVENT
BEGIN:VEVENT
DTSTART;VALUE=DATE:20220708
DTEND;VALUE=DATE:20220709
DTSTAMP:20260421T174148
CREATED:20220111T174916Z
LAST-MODIFIED:20220111T174916Z
UID:10000646-1657238400-1657324799@ncpgalinks.com
SUMMARY:Barracuda Championship Pre-Qualifier
DESCRIPTION:
URL:https://ncpgalinks.com/event/barracuda-championship-pre-qualifier-4/
LOCATION:Toiyabe GC
CATEGORIES:Open Events,Section
END:VEVENT
BEGIN:VEVENT
DTSTART;VALUE=DATE:20220711
DTEND;VALUE=DATE:20220712
DTSTAMP:20260421T174148
CREATED:20220111T175044Z
LAST-MODIFIED:20220111T175044Z
UID:10000647-1657497600-1657583999@ncpgalinks.com
SUMMARY:Barracuda Championship Open Qualifier
DESCRIPTION:
URL:https://ncpgalinks.com/event/barracuda-championship-open-qualifier-2/
LOCATION:Hidden Valley CC\, Reno\, Nevada
CATEGORIES:Open Events,Section
GEO:39.5296329;-119.8138027
END:VEVENT
BEGIN:VEVENT
DTSTART;VALUE=DATE:20220718
DTEND;VALUE=DATE:20220719
DTSTAMP:20260421T174148
CREATED:20220111T194953Z
LAST-MODIFIED:20220111T194953Z
UID:10000824-1658102400-1658188799@ncpgalinks.com
SUMMARY:Senior/Super Senior Pro-Pro 7
DESCRIPTION:
URL:https://ncpgalinks.com/event/senior-super-senior-pro-pro-7/
LOCATION:Sharon Heights CC
CATEGORIES:Senior Division
END:VEVENT
BEGIN:VEVENT
DTSTART;VALUE=DATE:20220718
DTEND;VALUE=DATE:20220719
DTSTAMP:20260421T174148
CREATED:20220111T195846Z
LAST-MODIFIED:20220111T195846Z
UID:10000671-1658102400-1658188799@ncpgalinks.com
SUMMARY:AA Medal Play #3
DESCRIPTION:
URL:https://ncpgalinks.com/event/aa-medal-play-3-3/
LOCATION:Corde Valle GC
CATEGORIES:Assistant Associates Division
END:VEVENT
BEGIN:VEVENT
DTSTART;VALUE=DATE:20220718
DTEND;VALUE=DATE:20220719
DTSTAMP:20260421T174148
CREATED:20220622T000241Z
LAST-MODIFIED:20220712T224045Z
UID:10000841-1658102400-1658188799@ncpgalinks.com
SUMMARY:Schaffer's Mill Pro AM
DESCRIPTION:The Pro-Am at The Mill – Entry Form CLICK HERE
URL:https://ncpgalinks.com/event/schaffers-mill-pro-am/
LOCATION:Schaffer’s Mill GC
CATEGORIES:Pro-Ams,Sierra Nevada Chapter
END:VEVENT
BEGIN:VEVENT
DTSTART;VALUE=DATE:20220718
DTEND;VALUE=DATE:20220720
DTSTAMP:20260421T174148
CREATED:20220208T224607Z
LAST-MODIFIED:20220208T235334Z
UID:10000832-1658102400-1658275199@ncpgalinks.com
SUMMARY:Baywood Invitational Pro-Am
DESCRIPTION:Baywood CC Invitational Pro-Am – For more information contact Greg Bean\, PGA\, (707) 822-3688\, brett@baywoodgcc.com
URL:https://ncpgalinks.com/event/baywood-invitational-pro-am/
LOCATION:Baywood Country Club
CATEGORIES:Pro-Ams
END:VEVENT
BEGIN:VEVENT
DTSTART;TZID=UTC:20220725T000000
DTEND;TZID=UTC:20220725T235900
DTSTAMP:20260421T174148
CREATED:20220701T195216Z
LAST-MODIFIED:20220725T213957Z
UID:10000843-1658707200-1658793540@ncpgalinks.com
SUMMARY:NCPGA Assistant's Championship
DESCRIPTION:
URL:https://ncpgalinks.com/event/ncpga-assistants-championship/
LOCATION:Woodbridge Country Club\, Stockton\, CA
CATEGORIES:Assistant Associates Division,Homepage Events
GEO:37.9577016;-121.2907796
END:VEVENT
BEGIN:VEVENT
DTSTART;TZID=UTC:20220729T000000
DTEND;TZID=UTC:20220729T235900
DTSTAMP:20260421T174148
CREATED:20220726T192112Z
LAST-MODIFIED:20220729T062426Z
UID:10000842-1659052800-1659139140@ncpgalinks.com
SUMMARY:2022 NCPGA Section Assistant Championship
DESCRIPTION:
URL:https://ncpgalinks.com/event/2022-ncpga-section-assistant-championship/
LOCATION:Woodbridge Country Club\, Stockton\, CA
CATEGORIES:Assistant Associates Division,Homepage Events
GEO:37.9577016;-121.2907796
END:VEVENT
END:VCALENDAR