BEGIN:VCALENDAR
VERSION:2.0
PRODID:-//Northern California PGA - ECPv6.15.20//NONSGML v1.0//EN
CALSCALE:GREGORIAN
METHOD:PUBLISH
X-WR-CALNAME:Northern California PGA
X-ORIGINAL-URL:https://ncpgalinks.com
X-WR-CALDESC:Events for Northern California PGA
REFRESH-INTERVAL;VALUE=DURATION:PT1H
X-Robots-Tag:noindex
X-PUBLISHED-TTL:PT1H
BEGIN:VTIMEZONE
TZID:UTC
BEGIN:STANDARD
TZOFFSETFROM:+0000
TZOFFSETTO:+0000
TZNAME:UTC
DTSTART:20190101T000000
END:STANDARD
END:VTIMEZONE
BEGIN:VEVENT
DTSTART;VALUE=DATE:20230821
DTEND;VALUE=DATE:20230823
DTSTAMP:20260422T083824
CREATED:20230523T160358Z
LAST-MODIFIED:20230523T160358Z
UID:10000877-1692576000-1692748799@ncpgalinks.com
SUMMARY:2023 Nor Cal Senior PGA Professional Championship
DESCRIPTION:
URL:https://ncpgalinks.com/event/2023-nor-cal-senior-pga-professional-championship/
LOCATION:Del Rio CC
CATEGORIES:PGA,Section,Senior Division
END:VEVENT
BEGIN:VEVENT
DTSTART;VALUE=DATE:20220822
DTEND;VALUE=DATE:20220824
DTSTAMP:20260422T083824
CREATED:20220111T175510Z
LAST-MODIFIED:20220111T175510Z
UID:10000651-1661126400-1661299199@ncpgalinks.com
SUMMARY:Nor Cal Senior PGA Professional Championship
DESCRIPTION:
URL:https://ncpgalinks.com/event/nor-cal-senior-pga-professional-championship-2/
LOCATION:Del Rio CC
CATEGORIES:Section,Senior Division
END:VEVENT
BEGIN:VEVENT
DTSTART;VALUE=DATE:20210823
DTEND;VALUE=DATE:20210824
DTSTAMP:20260422T083824
CREATED:20201203T205928Z
LAST-MODIFIED:20210106T173609Z
UID:10000661-1629676800-1629763199@ncpgalinks.com
SUMMARY:Nor Cal Assistant Professional Championship
DESCRIPTION:
URL:https://ncpgalinks.com/event/ncpga-section-assistant-championship/
LOCATION:Del Rio CC
CATEGORIES:Assistant Associates Division,Homepage Events,Section
END:VEVENT
BEGIN:VEVENT
DTSTART;VALUE=DATE:20200817
DTEND;VALUE=DATE:20200818
DTSTAMP:20260422T083824
CREATED:20200227T204746Z
LAST-MODIFIED:20200227T204746Z
UID:10000630-1597622400-1597708799@ncpgalinks.com
SUMMARY:NCPGA Assistant Championship
DESCRIPTION:
URL:https://ncpgalinks.com/event/ncpga-assistant-championship/
LOCATION:Del Rio CC
CATEGORIES:Assistant Associates Division,Section
END:VEVENT
BEGIN:VEVENT
DTSTART;VALUE=DATE:20200130
DTEND;VALUE=DATE:20200131
DTSTAMP:20260422T083824
CREATED:20200130T234643Z
LAST-MODIFIED:20200130T234643Z
UID:10000619-1580342400-1580428799@ncpgalinks.com
SUMMARY:Capax-Corby\,Giddings\,Hynes Insurance/McCoy-Michellin Tire Pro-Am
DESCRIPTION:For more information contact Fred Rodriguez\, PGA\, (209) 341-2409 \nEmail – fred@delriocountryclub.com
URL:https://ncpgalinks.com/event/capax-corbygiddingshynes-insurance-mccoy-michellin-tire-pro-am/
LOCATION:Del Rio CC
CATEGORIES:Pro-Ams,San Joaquin Valley Chapter
END:VEVENT
END:VCALENDAR