BEGIN:VCALENDAR
VERSION:2.0
PRODID:-//Northern California PGA - ECPv6.15.20//NONSGML v1.0//EN
CALSCALE:GREGORIAN
METHOD:PUBLISH
X-WR-CALNAME:Northern California PGA
X-ORIGINAL-URL:https://ncpgalinks.com
X-WR-CALDESC:Events for Northern California PGA
REFRESH-INTERVAL;VALUE=DURATION:PT1H
X-Robots-Tag:noindex
X-PUBLISHED-TTL:PT1H
BEGIN:VTIMEZONE
TZID:UTC
BEGIN:STANDARD
TZOFFSETFROM:+0000
TZOFFSETTO:+0000
TZNAME:UTC
DTSTART:20210101T000000
END:STANDARD
END:VTIMEZONE
BEGIN:VEVENT
DTSTART;VALUE=DATE:20240623
DTEND;VALUE=DATE:20240624
DTSTAMP:20260425T003022
CREATED:20231214T212833Z
LAST-MODIFIED:20240216T021949Z
UID:10000908-1719100800-1719187199@ncpgalinks.com
SUMMARY:2024 NCPGA Summer Meeting
DESCRIPTION:
URL:https://ncpgalinks.com/event/2024-ncpga-summer-meeting/
LOCATION:Eldorado at THE ROW RENO
CATEGORIES:Assistant Associates Division,Bay Area Chapter,Monterey Bay Area Chapter,North Coast Chapter,North State Chapter,San Joaquin Valley Chapter,Section,Senior Division,Sierra Nevada Chapter,Women's Division
END:VEVENT
BEGIN:VEVENT
DTSTART;VALUE=DATE:20230611
DTEND;VALUE=DATE:20230612
DTSTAMP:20260425T003022
CREATED:20230501T232111Z
LAST-MODIFIED:20230501T232111Z
UID:10000863-1686441600-1686527999@ncpgalinks.com
SUMMARY:2023 NCPGA Summer Meeting
DESCRIPTION:
URL:https://ncpgalinks.com/event/2023-ncpga-summer-meeting/
LOCATION:Eldorado at THE ROW RENO
END:VEVENT
BEGIN:VEVENT
DTSTART;VALUE=DATE:20220626
DTEND;VALUE=DATE:20220627
DTSTAMP:20260425T003022
CREATED:20220110T204743Z
LAST-MODIFIED:20220110T204743Z
UID:10000642-1656201600-1656287999@ncpgalinks.com
SUMMARY:NCPGA Semi-Annual Meeting
DESCRIPTION:
URL:https://ncpgalinks.com/event/ncpga-semi-annual-meeting-2/
LOCATION:Eldorado at THE ROW RENO
CATEGORIES:Education / Industry,Section
END:VEVENT
END:VCALENDAR